{"text_format":"3","workbook":"xlsx","n_sheets":13,"sheets":["--","-","AX01-TSC (0)","AX01-CNR (0)","AX01-SN (0)","AX01-ÖNORM (0)","AX01-SB (0)","AX01-NFP (0)","AX01-MSZ (0)","AX01-SVV (0)","AX01 (0)","Statistik SN","Statistik stat"],"not_rendered":{"charts":9,"images":1,"macros":1,"defined_names":353,"comments":1},"read":"whole","date_system":"1900"}

{"sheet":"--","index":0,"n_rows":212,"n_cols":4,"rows_kept":212,"hidden":true}
["Translations for Sheets"]
["EN","SL","IT","DE"]
[0,1,2,3]
["Test-No:","Št. preizkusa:","N. prova:","Prüfungs-Nr:"]
["Attachement:","Priloga:","Allegato:","Anlage:"]
["Ok","izpolnjeno","soddisfatto","erfüllt"]
["NOT Ok","ni izpolnjeno","non soddisfatto","nicht erfüllt"]
["to:","do:","a:","zu:"]
["Plate load test DIN18134-","Preskus z obremenilno ploščo DIN 18134-","Prova di carico su piastra DIN 18134-","Plattendruckversuch DIN 18134-"]
["Device: PlateLoad Test AX01, Manufacturer: Anix GmbH\nEquipment: LVDT 15mm, electronic force sensor 100 kN","Preizkusna naprava: ploščni obremenilnik AX01, proizvajalec: Anix GmbH\nOprema: induktivni merilnik pomika 15 mm, elektronski merilnik sile 100 kN","Dispositivo: prova di carico su piastra AX01, produttore: Anix GmbH\nAttrezzatura: LVDT 15 mm, sensore elettronico di forza 100 kN","\nPrüfgerät: Plattendruckgerät AX01, Hersteller: Anix GmbH\nAusrüstung: induktiver Wegaufnehmer 15 mm, elektronischer Kraftaufnehmer 100 kN\n"]
["Project:","Projekt:","Progetto:","Bauvorhaben:"]
["Date (Start):","Datum (začetek):","Data (inizio):","Datum (Beginn):"]
["Date (End):","Datum (konec):","Data (fine):","Datum (Ende):"]
["Equipment number:","Številka naprave:","Numero apparecchio:","Gerätenummer:"]
["Client:","Naročnik:","Committente:","Auftraggeber:"]
["Test no. on card:","Št. preizkusa na kartici:","N. prova sulla scheda:","Versuch-Nr auf Karte:"]
["Card no:","Št. kartice:","N. scheda:","Kartennummer:"]
["Weather:","Vreme:","Meteo:","Witterung:"]
["Calibration Date:","Datum umerjanja:","Data di calibrazione:","Kalibrierdatum:"]
["Previous day:","Prejšnji dan:","Giorno precedente:","Vortag:"]
["Measuring point:","Merilno mesto:","Punto di misura:","Messstelle:"]
["Plate Ø [mm]:","Plošča Ø [mm]:","Piastra Ø [mm]:","Platten-Ø [mm]:"]
["Test depth:","Globina preizkusa:","Profondità di prova:","Prüftiefe:"]
["Leverage ratio 1 to:","Vzvodno razmerje 1 proti:","Rapporto di leva 1 a:","Hebelverhältnis 1 zu:"]
["Test layer:","Preizkusna plast:","Strato di prova:","Prüfschicht:"]
["Polynomials","Polinomi","Polinomi","Polynome"]
["First load","Prva obremenitev","Primo carico","Erstbel."]
["Second load","Druga obremenitev","Secondo carico","Zweitbel."]
["Third load","Tretja obremenitev","Terzo carico","Drittbel."]
["Remarks:","Opombe:","Note:","Bemerkungen:"]
["a1:","a1:","a1:","a1:"]
["a2:","a2:","a2:","a2:"]
["First load cycle","Prvi obremenitveni cikel","Primo ciclo di carico","Erstbelastung"]
["Unloading","Razbremenitev","Scarico","Entlastung"]
["Second load cycle","Drugi obremenitveni cikel","Secondo ciclo di carico","Zweitbelastung"]
["2nd Unloading","2. razbremenitev","2° scarico","2. Entlastung"]
["Third load cycle","Tretji obremenitveni cikel","Terzo ciclo di carico","Drittbelastung"]
["load level","Stopnja obremenitve","Livello di carico","Last-stufe"]
["normal stress","Normalna napetost","Tensione normale","Normal-spannung"]
["settlement","Posedek","Cedimento","Setzung"]
["No.","Št.","N.","Nr."]
["MN/m2","MN/m2","MN/m2","MN/m2"]
["mm","mm","mm","mm"]
["max:","maks:","max:","max:"]
["Longitude:","Zemljepisna dolžina:","Longitudine:","Länge:"]
["Latitude:","Zemljepisna širina:","Latitudine:","Breite:"]
["UTM:","UTM:","UTM:","UTM:"]
["Results:","Rezultati:","Risultati:","Resultate:"]
["The requirements are NOT met.","Zahteve NISO izpolnjene.","I requisiti NON sono soddisfatti.","Die Anforderungen werden NICHT erfüllt."]
["The requirements are met.","Zahteve so izpolnjene.","I requisiti sono soddisfatti.","Die Anforderungen werden erfüllt."]
["Ev1\n[MN/m²]","Ev1\n[MN/m²]","Ev1\n[MN/m²]","Ev1\n[MN/m²]"]
["Ev2\n[MN/m²]","Ev2\n[MN/m²]","Ev2\n[MN/m²]","Ev2\n[MN/m²]"]
["Ev2/Ev0","Ev2/Ev1","Ev2/Ev1","Ev2/Ev1"]
["Ev3\n[MN/m²]","Ev3\n[MN/m²]","Ev3\n[MN/m²]","Ev3\n[MN/m²]"]
["Ev3/Ev0","Ev3/Ev1","Ev3/Ev1","Ev3/Ev1"]
["Nominal:","Zahtevano:","Richiesto:","Soll:"]
["Date:","Datum:","Data:","Datum:"]
["Operator:","Izvajalec:","Operatore:","Bearbeiter:"]
["Stamp/Signature:","Žig/podpis:","Timbro/firma:","Stempel/Unterschrift:"]
[null,"Razbremenitev, graf","Scarico, grafico","Entlastung, graf"]
[null,"2. razbremenitev, graf","2° scarico, grafico","2.Entlastung, graf"]
["additionals","dodatno","ulteriori","weiteres"]
["Read card","Branje kartice","Leggi scheda","Karte lesen"]
["GPS","GPS","GPS","GPS"]
["UTM","UTM","UTM","UTM"]
["Translate","Prevedi","Traduci","Translate"]
["settlement [mm]","Posedek [mm]","Cedimento [mm]","Setzung [mm]"]
["normal stress [MN/m²]","Normalna napetost [MN/m²]","Tensione normale [MN/m²]","Normalspannung [MN/m²] "]
["31 U","32 U","32 U","32 U"]
["Google","Google","Google","Google"]
["Google teren","Google teren","Google Terrain","Google Terrain"]
["Google satelit","Google satelit","Google Sat","Google Sat"]
["OSM Anix","OSM Anix","OSM Anix","OSM Anix"]
["Yandex","Yandex","Yandex","Yandex"]
["Yandex satelit","Yandex satelit","Yandex Sat","Yandex Sat"]
["Wikimedia","Wikimedia","Wikimedia","Wikimedia"]
["Delete","Izbriši","Elimina","Löschen"]
["Test report:","Poročilo o preizkusu:","Rapporto di prova:","Prüfbericht:"]
["1724_A18","1724_A19","1724_A19","1724_A19"]
["Plate load test Ev","Preskus z obremenilno ploščo Ev","Prova di carico su piastra Ev","Plattendruckversuch EV"]
["according to DIN18134, test equipment: Anix Ax01a","v skladu z DIN 18134, merjeno s preizkusno napravo Anix AX01a","secondo DIN 18134, misurato con apparecchio di prova Anix AX01a","nach DIN 18134, gemessen mit Prüfgerät Anix AX01a"]
["Anix GmbH","Anix GmbH","Anix GmbH","Anix GmbH"]
["Commissioned by:","Naročil:","Incarico conferito da:","Auftrag erteilt durch:"]
["Object:","Objekt:","Oggetto:","Objekt:"]
["Remarks:","Opombe:","Note:","Anmerkungen:"]
["Contract from:","Naročilo z dne:","Ordine del:","Auftrag vom:"]
["Operator:","Izvajalec:","Operatore:","Prüfer:"]
["Summary of test results","Povzetek rezultatov preizkusa","Riepilogo dei risultati di prova","Zusammenstellung der Prüfergebnisse"]
["Soll (EV2) [MPa]:","Zahtevano (EV2) [MPa]:","Richiesto (EV2) [MPa]:","Soll (EV2) [MPa]:"]
["Soll (EV2/EV1) [MPa]:","Zahtevano (EV2/EV1) [MPa]:","Richiesto (EV2/EV1) [MPa]:","Soll (EV2/EV1) [MPa]:"]
["Test point","Preizkusna točka","Punto di prova","Prüfstelle"]
["EV","EV","EV","EV"]
["geographical position\n(WGS 84, EPSG:3857)","geografski položaj\n(WGS 84, EPSG:3857)","posizione geografica\n(WGS 84, EPSG:3857)","geografische Position\n(WGS 84, EPSG:3857)"]
["Ratio","Razmerje","Rapporto","Verhältnis"]
["Date","Datum","Data","Datum"]
["Latitude","Zemljepisna širina","Latitudine","Breite"]
["Longitude","Zemljepisna dolžina","Longitudine","Länge"]
["Profile","Profil","Profilo","Profil"]
["Location","Lokacija","Posizione","Lage"]
["Layer","Plast","Strato","Prüfschicht"]
["EV1","EV1","EV1","EV1"]
["EV2","EV2","EV2","EV2"]
["EV2/EV0","EV2/EV1","EV2/EV1","EV2/EV1"]
["Requirements fulfilled in total","Zahteve skupaj izpolnjene","Requisiti complessivamente soddisfatti","Anfor.\ninsg. erfüllt"]
["[°]","[°]","[°]","[°]"]
["[MPa]","[MPa]","[MPa]","[MPa]"]
["General map:","Pregledna karta:","Mappa generale:","Übersichtskarte:"]
["Detail map:","Podrobna karta:","Mappa dettagliata:","Detailkarte:"]
["Map","Zemljevid","Mappa","Landkarte"]
["Update map","Posodobi zemljevid","Aggiorna mappa","Landkarte aktualisieren"]
["Requirements:","Zahteve:","Requisiti:","Anforderungen:"]
["Deformation module","Modul deformacije","Modulo di deformazione","Verformungsmodul"]
["Requi.","Zah.","Req.","Anfor."]
["Update table","Posodobi tabelo","Aggiorna tabella","Tabelle aktualisieren"]
["Clear table","Izprazni tabelo","Svuota tabella","Tabelle leeren"]
["Print all","Natisni vse","Stampa tutto","Zusammen drucken"]
["Summary","Pregled","Riepilogo","Übersicht"]
["Map","Zemljevid","Mappa","Karte"]
["DIN ","DIN ","DIN ","DIN "]
["a0:","a0:","a0:","a0:"]
["ks [MN/m³]:","ks [MN/m³]:","ks [MN/m³]:","ks [MN/m³]:"]
["Plate Bearing Test according to DIN 18134-","Preskus s statično obremenilno ploščo po DIN 18134-","Prova di carico su piastra secondo DIN 18134-","Plattendruckversuch nach DIN 18134-"]
["Institute:","Inštitut:","Istituto:","Prüfinstitut:"]
["Record number:","Številka zapisa:","Numero record:","Datensatznummer:"]
["Card number.:","Številka kartice:","Numero scheda:"]
["Start of test:","Začetek preskusa:","Inizio prova:","Versuchsbeginn:"]
["End of test:","Konec preskusa:","Fine prova:","Versuchsende:"]
["Layer:","Sloj:","Strato:","Schicht:"]
["Device number:","Številka naprave:","Numero dispositivo:","Gerätenummer:"]
["Ø-Plate:","Ø plošče:","Ø piastra:","Plattendurchmesser:"]
["Weather/Temp.:","Vreme/temp.:","Meteo/temp.:","Witterung/Temp.:"]
["Lever ratio:","Razmerje vzvoda:","Rapporto leva:","Hebelverhältnis:"]
["max plate tilt:","Maks. nagib plošče:","Inclinazione max piastra:","Kippweg Plattenrand:"]
["Equipment:","Oprema:","Attrezzatura:","Ausrüstung:"]
["Manufacturer: Anix GmbH, LVDT sensor 15mm, force sensor 100kN","Proizvajalec: Anix GmbH, LVDT senzor 15 mm, senzor sile 100 kN","Produttore: Anix GmbH, sensore LVDT 15 mm, sensore di forza 100 kN","Hersteller Anix GmbH, induktiver Wegaufnehmer 15mm, elektronischer Kraftsensor 100kN"]
["Lat.:","Zem. šir.:","Lat.:"]
["Lon.:","Zem. dol.:","Lon.:"]
["Load\nso [MN/m²]","Napetost\nso [MN/m²]","Tensione\nso [MN/m²]","Spannung\nso [MN/m²]"]
["Deflection \ns [mm]","Posedek \ns [mm]","Cedimento \ns [mm]","Setzung \ns [mm]"]
["first loading","Prva obremenitev","Primo carico"]
["unloading","Razbremenitev","Scarico"]
["second loading","Druga obremenitev","Secondo carico"]
["second unloading","Druga razbremenitev","Secondo scarico","2.Entlastung"]
["third loading","Tretja obremenitev","Terzo carico"]
["Results","Rezultati","Risultati","Ergebnisse"]
["Actual","Dejanske vrednosti","Valori effettivi","Ist-Werte"]
["Nominal","Nazivne vrednosti","Valori nominali","Sollwerte"]
["Rating","Ocena","Valutazione","Bewertung"]
["s1max [MN/m²]","s1max [MN/m²]","s1max [MN/m²]","s1max [MN/m²]"]
["Ev1 [MN/m²]","Ev1 [MN/m²]","Ev1 [MN/m²]","Ev1 [MN/m²]"]
["Ev2 [MN/m²]","Ev2 [MN/m²]","Ev2 [MN/m²]","Ev2 [MN/m²]"]
["OK","V redu","OK"]
["failed","Neuspešno","Non superato"]
["Ev2/Ev1:","Ev2/Ev1:","Ev2/Ev1:","Ev2/Ev1:"]
["Ev3 [MN/m²]","Ev3 [MN/m²]","Ev3 [MN/m²]","Ev3 [MN/m²]"]
["Ev3/Ev1:","Ev3/Ev1:","Ev3/Ev1:","Ev3/Ev1:"]
["Westergaard ks:","Westergaardov ks:","Westergaard ks:","Bettungsmodul:"]
["MN/m³","MN/m³","MN/m³","MN/m³"]
["remarks:","Opombe:","Note:"]
["sks","sks","sks","sks"]
["sks korr.","sks kor.","sks corr.","sks korr."]
["p","p","p","p"]
["q","q","q","q"]
["p/2","p/2","p/2","p/2"]
["s1,25","s1,25","s1,25","s1,25"]
["k","k","k","k"]
["Parameter","Parameter","Parametro","Parameter"]
["a0","a0","a0","a0"]
["a1","a1","a1","a1"]
["a2","a2","a2","a2"]
["Index","Indeks","Indice","Index"]
["smax","smax","smax","smax"]
["Ev","Ev","Ev","Ev"]
["k1","k1","k1","k1"]
["k2","k2","k2","k2"]
["a","a","a","a"]
["Language:","Jezik:","Lingua:","Sprache:"]
["Lat:","Lat:","Lat:"]
["Lon:","Lon:","Lon:"]
["Plattendurchmesser:","Premer plošče:","Diametro piastra:","Plattendurchmesser:"]
["Hebelverhältnis:","Razmerje vzvoda:","Rapporto leva:","Hebelverhältnis:"]
["Datensatznummer:","Številka zapisa:","Numero record:","Datensatznummer:"]
["Stepwidth:","Širina koraka:","Ampiezza passo:","Stepwidth:"]
["Kippweg Plattenrand:","Nagib roba plošče:","Inclinazione bordo piastra:","Kippweg Plattenrand:"]
["Grenzwerte","Mejne vrednosti","Valori limite"]
["Ev2","Ev2","Ev2","Ev2"]
["Krivulje","Krivulje","Curve"]
["Sigma","Sigma","Sigma","Sigma"]
["read data","Preberi podatke","Leggi dati","Lese SD-Karte"]
["Clear GPS","Počisti GPS","Cancella GPS"]
["deflection s [mm]","posedek s [mm]","cedimento s [mm]","s [mm]"]
["load so [MN/m²]","obremenitev so [MN/m²]","carico so [MN/m²]","so [MN/m²]"]
["Plate load test - statistics",null,null,"Statischer Plattendruckversuch, Statistische Auswertung "]
["DIN18134 and TP BF-StB, Teil E1 1993\nEquipment: plate load test AX01a\nManufacturer: Anix GmbH",null,null,"Bestimmung des Verformungsmoduls gemäß  DIN18134-2001 und TP BF-StB, Teil E1: \"Prüfung auf statistischer Grundlage - Stichprobenprüfpläne -\", Ausgabe 1993, Einfachplan - Variablenprüfung\nPrüfgerät: Plattendruckgerät AX01\nHersteller: Anix GmbH"]
["AX01 ",null,null,"AX01"]
["Card number:",null,null,"Kartennummer:"]
["Weather/Temperature:",null,null,"Wetter/Temperatur:"]
["required minimum quantile Ev2:",null,null,"gefordertes \nMindestquantil Ev2:"]
["required maximum quantile Ev2/Ev1:",null,null,"gefordertes \nHöchstquantil Ev2/Ev1:"]
["test - no.",null,null,"Nr"]
["date",null,null,"Datum"]
["time",null,null,"Zeit"]
[]
["remarks",null,null,"Bemerkungen"]
["Arithmetic average of spot-check:",null,null,"Arithmetisches Mittel der Stichprobe:"]
["Standard deviation:",null,null,"Standardabweichung:"]
["Variation coeffizient:",null,null,"Variationskoeffizient:"]
["Quality number Q:",null,null,"Qualitätszahl Q:"]
["The test (Q>0,88) ",null,null,"Die Prüfkriterien (Q>0,88) sind "]
["is ok.",null,null,"erfüllt."]
["has failed.",null,null,"nicht erfüllt."]
["Berlin"]

{"sheet":"-","index":1,"n_rows":68,"n_cols":6,"rows_kept":68,"hidden":true}
[]
[]
[]
["Translations"]
["Com:","COM1"]
["Mode:",3]
["Dll:","MCSCM.dll"]
["Translations (0=off, 1,2,3..=active Language)"]
[3]
["English","Slovensko","Italiano","Deutsch"]
["Reading","Odčitavanje","Lettura ","Einlesen"]
["ZFG2000 not found. Check serial settings. Switch it on.","Ne najdem ZFG200 preveri če je naprava vključena","ZFG2000 non disponibile. Verificare se lo strumento ZFG2000 é acceso o collegato","ZFG2000 nicht gefunden. Überprüfen Sie, ob das Gerät eingeschaltet oder angeschlossen ist."]
["Card not found. Please insert card.","Ne najdem kartice, preveri če je vložena","Lettura scheda non disponibile. Inserire scheda","Karte nicht gefunden. Bitte legen Sie eine Karte ein."]
["zaioser.dll not found.","zaioser.dll nisem našel","zaioser.dll  non disponibile","zaioser.dll wurde nicht gefunden."]
["Reading card ...","Čitanje kartice","Lettura Scheda","Karte lesen ..."]
["Card:","Kartica","Scheda:","Karte:"]
["records","Podatki kartice","Dati","Datensätze"]
["Bytes #","Bytes #","Bytes #","Bytes #"]
["Card not readable:","Kartica ni  mogoče čitati","Scheda non leggibile","Karte nicht lesbar:"]
["Reading raw data","Nastavitev osnovnih podatkov","Lettura (Dati Grezzi)","Rohdaten einlesen"]
["record","Sklop podatkov","Dati","Datensatz"]
["Ready","Gotovo","Pronto per l`impiego","Fertig"]
["Reading failed","Ugotovitev napake","Lettura Scheda errata","Einlesen fehlgeschlagen."]
["No data available","Ni kartice","Dati non disponibili","Keine Daten vorhanden"]
["Save raw data as","Osnovni podatki so shranjeni  pod","Salvare Dati Grezzi in","Rohdaten speichern unter"]
["Excel was not able to create all requested sheets.","Niso vneseni vsi protokoli","Non é possiblile eseguire tutte le operazioni effettuate","Nicht alle Protokolle wurden angelegt"]
["You are working with the template (.xlt). It is not possible to use this function. Copy this template into the template directory of Microsoft Office and create a new file using the menu 'File-New' and choose this template there.","Delate s predlogo, prevzem podatklov ni mogoč. Kopirajte podatke v  Office-podatkovni bazi in odprite nov file v podatkovnem meniju.","State utilizzando un documento Template (.xlt). L´elaborazione dei dati non é possibbile. Copiare i dati nella Template directory  di Microsoft Office e creare un nuovo File utillizzando il menú \"Nuovo File\" per aprire il documento Template.","Sie arbeiten mit der Vorlage. Übernehmen von Daten ist nicht möglich. Kopieren Sie die Datei in das Office-Vorlagenverzeichnis und öffnen Sie dann diese Vorlage über das Datei-Menu 'Neu'.",null,"Sie arbeiten mit der Vorlage. Übernehmen von Daten ist nicht möglich. Kopieren Sie die Datei in das Office-Vorlagenverzeichnis und öffnen Sie dann diese Vorlage über das Datei-Menu 'Neu'."]
["Delete all data on the card?","Ali brišem vse podatke na kartici","Cancellare tutti i dati della Scheda?","Alle Daten auf der Karte löschen?"]
["Card not formated. Please format (delete) card with the tester.","Kartica ni formatirana, formatirajte jo v računalniku","Scheda non formattata. Formattare la Scheda nel dispositivo","Die Karte ist nicht formatiert. Bitte formatieren Sie die Karte im Gerät."]
["Formating Failed","Formatiranje ni uspelo","Formattazzione errata","Formatierung fehlgeschlagen"]
["Testing","Test","Prova","Teste"]
["Found","Našel","Trovato","Gefunden"]
["Read card","Čitanje kartice","Lettura Scheda","Karte lesen"]
["card info","Informacija o kartici","Info Scheda","Karteninfo"]
["Data->Excel","podatki exel","Dati->Excel","Daten->Excel"]
["Info","Info","Info","Info"]
["Close","Zapri","Chiudere","Schließen"]
["Read file","Čitanje podatkov","Lettura Dati","Datei lesen"]
["card reader","Čitalec kartic","Lettore Scheda","Kartenleser"]
["gauge (serial)","Naprava (serijsko)",null,"ZFG2000 (seriell)"]
["ser. interface:","serijski vmesnik","Interfaccia Seriale","ser. Schnittstelle:"]
["All","Vsi","Tutti","Alle"]
["Delete card","Brisanje kartice","Cancel. Scheda","Karte löschen"]
["Search","Iskanje","Cerca","Suchen"]
["Card reader","Čitalec kartic","Lettore Scheda","Kartenleser"]
["card reader (scard)","Čitalec kartic skart","Lettore Scheda (Scard)","Kartenleser (scard)"]
["card reader (PC/SC)","Čitalec kartic (PC/SC)","Lettore Scheda (PC/SC)","Kartenleser (PC/SC)"]
["an internal error has occured","Pojavila se je napaka  Zapri  SmartcardManagerv Systemtray!","Si é verificato un errore interno","Es ist ein interner Fehler aufgetreten.","                         "]
["No card inserted or card is not formated. Please format the card in the electronic measurement device.","Kartica ni vložena ali ni formatirana, prosim formatirajte kartico v elektronskem merilniku.","La scheda non é stata inserita oppure non formattata. Formattare la carta nello strumento di misurazione","Die Karte ist nicht eingelegt oder nicht formatiert. Bitte löschen (formatieren) Sie die Karte im elektronischen Meßgerät."]
["Please install the newest version of zaioser.dll and/or put it to c:\\windows\\! This is not required for the new AX01 with SD-Card!","Prosim instalirajte novo verzijo zaioser.dll!","Installare la versione piú recente del zaioser.dll!","Bitte installieren sie die neueste Version der zaioser.dll! Für Geräte mit SD-Karte ist dies aber nicht nötig!"]
["The card has been removed","Ni vložena nobena kartica.","La Scheda non é inserita ","Es ist keine Karte eingelegt."]
["transfer only to statistics","Samo za statistiko","Riportare solo nelle statistiche","nur in Statistik übernehmen"]
["Unknown datasets (wrong device?).","Nepoznani podatki - (napačen tip naprave).","Dati sconosciuti (é stato utilizzato un modello di strumento sbagliato?)","Unbekannte Datensätze (falscher Gerätetyp?)."]
["an internal error has occured","Interna napaka",null,"Es ist ein interner Fehler aufgetreten."]
["auto load map of GPS position",null,null,"Lade Landkarten automatisch."]
["-","-","-","-"]
["File","Datoteka","File","Datei"]
["Enter GPS coordinates","Vnesite GPS koordinate","Inserisci coordinate GPS","GPS Koordinaten eingeben"]
["Latitude:","Latituda:","Latitudine:","Länge"]
["Longitude:","Longituda:","Longitudine:","Breite"]
["OK","V redu","OK","OK"]
["Cancel","Prekliči","Annulla","Abbrechen"]
["Enter UTM coordinates","Vnesite UTM koordinate","Inserisci coordinate UTM","UTM Koordinaten eingeben"]
["Zone:","Zona:","Zona","Zone:"]
["Northing:","Severni koordinat (Northing):","Northing (o: Valore Nord)","Nordwert"]
["Easting:","Vzhodni koordinat (Easting):","Easting (o: Valore Est)","Ostwert"]
["North","Sever","Nord","Nord"]
["South","Jug","Sud","Süd"]

{"sheet":"AX01-TSC (0)","index":2,"n_rows":135,"n_cols":22,"rows_kept":135,"merged":[[15,1,15,2],[17,1,17,2],[19,1,19,2],[37,6,37,8],[39,6,39,7],[40,6,40,7],[41,6,41,7],[43,6,43,7],[44,6,44,7],[45,6,45,7]]}
[]
[]
[null,"Statičen deformacijski modul po  TSC 06.720"]
[null,null,"Izvajalec",{"$f":"IF('Statistik stat'!D1=\"\",\"\",'Statistik stat'!D1)","v":""},{"$nulls":3},"Št. testa:",{"$f":"_Datensatznummer","v":0}]
[null,null,"Naročnik:",{"$f":"IF('Statistik stat'!D5=\"\",\"\",'Statistik stat'!D5)","v":""},{"$nulls":3},"Štž. kartice:",{"$f":"_Kartennummer","v":0}]
[null,null,"Naročilo:",{"$f":"IF('Statistik stat'!D6=\"\",\"\",'Statistik stat'!D6)","v":""},{"$nulls":3},"Začetek testa:",{"$f":"_MessDatum","v":"00:00:00"}]
[null,null,"Višina nasipa:",{"$f":"IF('Statistik stat'!D7=\"\",\"\",'Statistik stat'!D7)","v":""},{"$nulls":3},"Končanje testa:",{"$f":"_MessDatum1","v":"00:00:00"}]
[null,null,"Plast:",{"$f":"IF('Statistik stat'!D8=\"\",\"\",'Statistik stat'!D8)","v":""},{"$nulls":3},"Št. naprave:",{"$f":"_Geraetenummer","v":0}]
[null,null,"Opombe:",{"$f":"IF('Statistik stat'!D9=\"\",\"\",'Statistik stat'!D9)","v":""},{"$nulls":3},"Premer plošče:",{"$f":"_PlattenDurchmesser","v":0}]
[null,null,"Vreme / temp.:",{"$f":"IF('Statistik stat'!D10=\"\",\"\",'Statistik stat'!D10)","v":""},{"$nulls":3},"Razmerje ročice:",{"$f":"_Hebelarm","v":{"v":0,"d":"1:0.00"}}]
[null,null,"Izvajalec:",{"$f":"IF('Statistik stat'!D11=\"\",\"\",'Statistik stat'!D11)","v":""},{"$nulls":3},{"$f":"IF(_Tilt_mm=\"\",\"\",\"max plate tilt:\")","v":""},{"$f":"IF(_Tilt_mm=\"\",\"\",_Tilt_mm)","v":""}]
[null,null,"Naprava:","AX01, Anix GmbH",{"$nulls":3},{"$f":"IF(_cLat=\"\",\"\",\"Lat.:\")","v":""}]
[{"$nulls":7},{"$f":"IF(_cLon=\"\",\"\",\"Lon.:\")","v":""}]
[{"$nulls":5},{"$f":"IF(_cZone=\"\",\"\",\"UTM:\")","v":""}]
[null,"Nr.","Normalna obremenitev\nso [MN/m²]","Posedanje \ns [mm]","Čas \nt [s]"]
[null,"Prva obremenitev"]
[]
[null,"Sprostitev"]
[]
[null,"Druga obremenitev"]
[]
[null,{"$f":"IF(_MessTab3=\"\",\"\",\"2.Entlastung\")","v":""}]
[]
[null,{"$f":"IF(_MessTab4=\"\",\"\",\"Drittbelastung\")","v":""}]
{"$rows_empty":13}
[{"$nulls":6},"Rezultati"]
[]
[{"$nulls":6},"Ev1 [MN/m²]",null,{"$f":"Q78","v":{"v":0,"d":"0.0"}}]
[{"$nulls":6},"Ev2 [MN/m²]",null,{"$f":"Q80","v":{"v":0,"d":"0.0"}}]
[{"$nulls":6},"Ev2/Ev1:",null,{"$f":"IF(I40=0,\"\",I41/I40)","v":""}]
[{"$nulls":8},{"$f":"IF(Q82<>\"\",Q82,\"\")","v":""}]
[{"$nulls":6},"Širina koraka:",null,{"$f":"_Stepwidth/10000","v":{"v":0,"d":"0.000"}}]
[{"$nulls":6},"a1:",null,{"$f":"CONCATENATE(TEXT(T78,\"0\"),\" (\",S78,\"-\",R78,\")\")","v":"0 (-)"}]
[{"$nulls":6},"a2:",null,{"$f":"CONCATENATE(TEXT(T80,\"0\"),\" (\",S80,\"-\",R80,\")\")","v":"0 (-)"}]
{"$rows_empty":29}
[{"$nulls":11},"Parameter"]
[{"$nulls":11},"a0","a1","a2","Index","smax","Ev","k1","k2","a"]
[]
[]
[]
[]
[]
[{"$nulls":11},"Lat:"]
[{"$nulls":11},"Lon:"]
[{"$nulls":11},"Premer plošče:"]
[{"$nulls":11},"Razmerje ročice:"]
[{"$nulls":11},"Datum:"]
[{"$nulls":11},"Datum (Konec):"]
[{"$nulls":11},"Št.naprave:"]
[{"$nulls":11},"Št. zapisa na kartici:"]
[{"$nulls":11},"Št. karticer:"]
[{"$nulls":11},"Širina koraka:"]
[{"$nulls":11},"Tilt:"]
[{"$nulls":11},"Mejne vrednosti"]
[{"$nulls":11},"Ev2","Ev2/Ev1"]
[{"$nulls":11},45,2.2]
[{"$nulls":11},80,2.3]
[{"$nulls":11},100,2.5]
[{"$nulls":11},120,2.6]
[{"$nulls":11},150]
[{"$nulls":11},180]
[]
[{"$nulls":11},"Krivulje"]
[{"$nulls":11},"Sigma",null,"_Prva obremenitev_",null,"_Sproščanje_",null,"_Druga obremenitev_",null,"_Sproščanje_",null,"_Tretja obremenitev_"]
[{"$nulls":11},0,{"$f":"IF(L105<=$P$78,L105,$P$78)","v":0},{"$f":"$L$78+$M$78*M105+$N$78*M105*M105","v":0},{"$f":"IF(L105<=$P$79,L105,$P$79)","v":0},{"$f":"$L$79+$M$79*O105+$N$79*O105*O105","v":0},{"$f":"IF(L105<=$P$80,L105,$P$80)","v":0},{"$f":"$L$80+$M$80*Q105+$N$80*Q105*Q105","v":0},{"$f":"IF(L105<=$P$93,L105,$P$81)","v":0},{"$f":"$L$81+$M$81*S105+$N$81*S105*S105","v":0},{"$f":"IF(L105<=$P$82,L105,$P$82)","v":0},{"$f":"$L$82+$M$82*U105+$N$82*U105*U105","v":0}]
[{"$nulls":11},0.02,0,0,0,0,0,0,0,0,0,0]
[{"$nulls":11},0.04,0,0,0,0,0,0,0,0,0,0]
[{"$nulls":11},0.06,0,0,0,0,0,0,0,0,0,0]
[{"$nulls":11},0.08,0,0,0,0,0,0,0,0,0,0]
[{"$nulls":11},0.1,0,0,0,0,0,0,0,0,0,0]
[{"$nulls":11},0.12,0,0,0,0,0,0,0,0,0,0]
[{"$nulls":11},0.14,0,0,0,0,0,0,0,0,0,0]
[{"$nulls":11},0.16,0,0,0,0,0,0,0,0,0,0]
[{"$nulls":11},0.18,0,0,0,0,0,0,0,0,0,0]
[{"$nulls":11},0.2,0,0,0,0,0,0,0,0,0,0]
[{"$nulls":11},0.22,0,0,0,0,0,0,0,0,0,0]
[{"$nulls":11},0.24,0,0,0,0,0,0,0,0,0,0]
[{"$nulls":11},0.26,0,0,0,0,0,0,0,0,0,0]
[{"$nulls":11},0.28,0,0,0,0,0,0,0,0,0,0]
[{"$nulls":11},0.3,0,0,0,0,0,0,0,0,0,0]
[{"$nulls":11},0.32,0,0,0,0,0,0,0,0,0,0]
[{"$nulls":11},0.34,0,0,0,0,0,0,0,0,0,0]
[{"$nulls":11},0.36,0,0,0,0,0,0,0,0,0,0]
[{"$nulls":11},0.38,0,0,0,0,0,0,0,0,0,0]
[{"$nulls":11},0.4,0,0,0,0,0,0,0,0,0,0]
[{"$nulls":11},0.42,0,0,0,0,0,0,0,0,0,0]
[{"$nulls":11},0.44,0,0,0,0,0,0,0,0,0,0]
[{"$nulls":11},0.46,0,0,0,0,0,0,0,0,0,0]
[{"$nulls":11},0.48,0,0,0,0,0,0,0,0,0,0]
[{"$nulls":11},0.5,0,0,0,0,0,0,0,0,0,0]
[{"$nulls":11},0.52,0,0,0,0,0,0,0,0,0,0]
[{"$nulls":11},0.54,0,0,0,0,0,0,0,0,0,0]
[{"$nulls":11},0.56,0,0,0,0,0,0,0,0,0,0]
[{"$nulls":11},0.58,0,0,0,0,0,0,0,0,0,0]
[{"$nulls":11},0.6,0,0,0,0,0,0,0,0,0,0]

{"sheet":"AX01-CNR (0)","index":3,"n_rows":158,"n_cols":24,"rows_kept":158,"merged":[[15,1,15,2],[17,1,17,2],[19,1,19,2],[35,6,35,8],[36,6,36,8],[37,6,37,7],[38,6,38,7],[39,6,39,7],[40,6,40,7],[41,6,41,8],[42,6,42,7],[43,6,43,7],[44,6,44,7],[45,6,45,7],[46,6,46,8],[47,6,47,7],[48,6,48,7],[49,6,49,7],[50,6,50,7]]}
[]
[]
[null,"Prova di carico con piastra rigida CNR-BU n° 146 (1992)"]
[null,null,"Instituto:",{"$f":"IF('Statistik stat'!D1=\"\",\"\",'Statistik stat'!D1)","v":""},{"$nulls":3},"Numero Dati:",{"$f":"_Datensatznummer","v":0}]
[null,null,"Committente:",{"$f":"IF('Statistik stat'!D5=\"\",\"\",'Statistik stat'!D5)","v":""},{"$nulls":3},"Numero Scheda:",{"$f":"_Kartennummer","v":0}]
[null,null,"Progetto/Incarico:",{"$f":"IF('Statistik stat'!D6=\"\",\"\",'Statistik stat'!D6)","v":""},{"$nulls":3},"Data (start):",{"$f":"_MessDatum","v":"00:00:00"}]
[null,null,"Quota di prova:",{"$f":"IF('Statistik stat'!D7=\"\",\"\",'Statistik stat'!D7)","v":""},{"$nulls":3},"Data (stop):",{"$f":"_MessDatum1","v":"00:00:00"}]
[null,null,"Strato:",{"$f":"IF('Statistik stat'!D8=\"\",\"\",'Statistik stat'!D8)","v":""},{"$nulls":3},"Numero Strumento:",{"$f":"_Geraetenummer","v":0}]
[null,null,"Note:",{"$f":"IF('Statistik stat'!D9=\"\",\"\",'Statistik stat'!D9)","v":""},{"$nulls":3},"Plate diameter:",{"$f":"_PlattenDurchmesser","v":0}]
[null,null,"Condizioni Atmosferiche/Temperatura:",{"$f":"IF('Statistik stat'!D10=\"\",\"\",'Statistik stat'!D10)","v":""},{"$nulls":3},"Lever ratio:",{"$f":"_Hebelarm","v":{"v":0,"d":"1:0.00"}}]
[null,null,"Operatore:",{"$f":"IF('Statistik stat'!D11=\"\",\"\",'Statistik stat'!D11)","v":""},{"$nulls":3},{"$f":"IF(_Tilt_mm=\"\",\"\",\"max plate tilt:\")","v":""},{"$f":"IF(_Tilt_mm=\"\",\"\",_Tilt_mm)","v":""}]
[null,null,"Equipment:","Ax01 Anix GmbH",{"$nulls":3},{"$f":"IF(_cLat=\"\",\"\",\"Lat.:\")","v":""}]
[{"$nulls":7},{"$f":"IF(_cLon=\"\",\"\",\"Lon.:\")","v":""}]
[{"$nulls":5},{"$f":"IF(_cZone=\"\",\"\",\"UTM:\")","v":""}]
[null,"Nr.","Pressione\nso [kN/m²]","Cedimento \ns [mm]","Tempo \nt [s]"]
[null,"first loading"]
[]
[null,"second loading"]
[]
[null,{"$f":"IF(_MessTab4=\"\",\"\",\"third loading\")","v":""}]
{"$rows_empty":15}
[{"$nulls":6},"MODULO DI DEFORMAZIONE"]
[{"$nulls":6},"1° CICLO DI CARICO"]
[{"$nulls":6},"Intervallo di pressione (kN/m²)",null,"Md  (MN/m²)"]
[{"$nulls":6},{"$f":"IF(N73<>\"\",CONCATENATE(N72/10,\"-\",N73/10),\"\")","v":""},null,{"$f":"IF(O72<>\"\",O72,\"\")","v":""}]
[{"$nulls":6},{"$f":"IF(N74<>\"\",CONCATENATE(N73/10,\"-\",N74/10),\"\")","v":""},null,{"$f":"IF(O73<>\"\",O73,\"\")","v":""}]
[{"$nulls":6},{"$f":"IF(N75<>\"\",CONCATENATE(N74/10,\"-\",N75/10),\"\")","v":""},null,{"$f":"IF(O74<>\"\",O74,\"\")","v":""}]
[{"$nulls":6},"2° CICLO DI CARICO"]
[{"$nulls":6},"Intervallo di pressione (kN/m²)",null,"M'd  (MN/m²)"]
[{"$nulls":6},{"$f":"IF(N83<>\"\",CONCATENATE(N82/10,\"-\",N83/10),\"\")","v":""},null,{"$f":"IF(O82<>\"\",O82,\"\")","v":""}]
[{"$nulls":6},{"$f":"IF(N84<>\"\",CONCATENATE(N83/10,\"-\",N84/10),\"\")","v":""},null,{"$f":"IF(O83<>\"\",O83,\"\")","v":""}]
[{"$nulls":6},{"$f":"IF(N85<>\"\",CONCATENATE(N84/10,\"-\",N85/10),\"\")","v":""},null,{"$f":"IF(O84<>\"\",O84,\"\")","v":""}]
[{"$nulls":6},"Valutazione qualità del costipemanto"]
[{"$nulls":6},"Intervallo di pressione (kN/m²)",null,"Md /M'd"]
[{"$nulls":6},{"$f":"IF(N83<>\"\",CONCATENATE(N82/10,\"-\",N83/10),\"\")","v":""},null,{"$f":"IF(I44<>\"\",I39/I44,\"\")","v":""}]
[{"$nulls":6},{"$f":"IF(N84<>\"\",CONCATENATE(N83/10,\"-\",N84/10),\"\")","v":""},null,{"$f":"IF(I45<>\"\",I40/I45,\"\")","v":""}]
[{"$nulls":6},{"$f":"IF(N85<>\"\",CONCATENATE(N84/10,\"-\",N85/10),\"\")","v":""},null,{"$f":"IF(I46<>\"\",I41/I46,\"\")","v":""}]
{"$rows_empty":20}
[{"$nulls":12},"0: ME"]
[]
[]
[]
[]
[{"$nulls":12},"1: ME"]
[]
[]
[]
[]
[{"$nulls":12},"2: ME"]
[]
[]
[]
[]
[{"$nulls":12},"3: ME"]
[]
[]
[]
[]
[{"$nulls":12},"4: ME"]
[]
[]
[]
[]
[]
[]
[{"$nulls":13},"Parameter"]
[{"$nulls":13},"a0","a1","a2","Index","smax","Ev","k1","k2","a"]
[]
[]
[]
[]
[]
[{"$nulls":13},"Lat:"]
[{"$nulls":13},"Lon:"]
[{"$nulls":13},"Plattendurchmesser:"]
[{"$nulls":13},"Hebelverhältnis:"]
[{"$nulls":13},"Datum:"]
[{"$nulls":13},"Datum (Ende):"]
[{"$nulls":13},"Gerätenummer:"]
[{"$nulls":13},"Datensatznummer:"]
[{"$nulls":13},"Kartennummer:"]
[{"$nulls":13},"Stepwidth:"]
[{"$nulls":13},"Tilt:"]
[{"$nulls":13},"Grenzwerte"]
[{"$nulls":13},"Ev2","Ev2/Ev1"]
[{"$nulls":13},45,2.2]
[{"$nulls":13},80,2.3]
[{"$nulls":13},100,2.5]
[{"$nulls":13},120,2.6]
[{"$nulls":13},150]
[{"$nulls":13},180]
[]
[{"$nulls":13},"Kurven"]
[{"$nulls":13},"Sigma",null,"_Erstbelastung_",null,"_Entlastung_",null,"_Zweitbelastung_",null,"_Entlastung_",null,"_Drittbelastung_"]
[{"$nulls":13},0,{"$f":"IF(N128<=$R$101*1000,N128,$R$101*1000)","v":0},{"$f":"$N$101+$O$101*O128/1000+$P$101*O128*O128/1000000","v":0},{"$f":"IF(N128<=$R$102*1000,N128,$R$102*1000)","v":0},{"$f":"$N$102+$O$102*Q128/1000+$P$102*Q128*Q128/1000000","v":0},{"$f":"IF(N128<=$R$103*1000,N128,$R$103*1000)","v":0},{"$f":"$N$103+$O$103*S128/1000+$P$103*S128*S128/1000000","v":0},{"$f":"IF(N128<=$R$104*1000,N128,$R$104*1000)","v":0},{"$f":"$N$104+$O$104*U128/1000+$P$104*U128*U128/1000000","v":0},{"$f":"IF(N128<=$R$105*1000,N128,$R$105*1000)","v":0},{"$f":"$N$105+$O$105*W128/1000+$P$105*W128*W128/1000000","v":0}]
[{"$nulls":13},20,{"$f":"IF(N129<=$R$101*1000,N129,$R$101*1000)","v":0},{"$f":"$N$101+$O$101*O129/1000+$P$101*O129*O129/1000000","v":0},{"$f":"IF(N129<=$R$102*1000,N129,$R$102*1000)","v":0},{"$f":"$N$102+$O$102*Q129/1000+$P$102*Q129*Q129/1000000","v":0},{"$f":"IF(N129<=$R$103*1000,N129,$R$103*1000)","v":0},{"$f":"$N$103+$O$103*S129/1000+$P$103*S129*S129/1000000","v":0},{"$f":"IF(N129<=$R$104*1000,N129,$R$104*1000)","v":0},{"$f":"$N$104+$O$104*U129/1000+$P$104*U129*U129/1000000","v":0},{"$f":"IF(N129<=$R$105*1000,N129,$R$105*1000)","v":0},{"$f":"$N$105+$O$105*W129/1000+$P$105*W129*W129/1000000","v":0}]
[{"$nulls":13},40,0,0,0,0,0,0,0,0,0,0]
[{"$nulls":13},60,0,0,0,0,0,0,0,0,0,0]
[{"$nulls":13},80,0,0,0,0,0,0,0,0,0,0]
[{"$nulls":13},100,0,0,0,0,0,0,0,0,0,0]
[{"$nulls":13},120,0,0,0,0,0,0,0,0,0,0]
[{"$nulls":13},140,0,0,0,0,0,0,0,0,0,0]
[{"$nulls":13},160,0,0,0,0,0,0,0,0,0,0]
[{"$nulls":13},180,0,0,0,0,0,0,0,0,0,0]
[{"$nulls":13},200,0,0,0,0,0,0,0,0,0,0]
[{"$nulls":13},220,0,0,0,0,0,0,0,0,0,0]
[{"$nulls":13},240,0,0,0,0,0,0,0,0,0,0]
[{"$nulls":13},260,0,0,0,0,0,0,0,0,0,0]
[{"$nulls":13},280,0,0,0,0,0,0,0,0,0,0]
[{"$nulls":13},300,0,0,0,0,0,0,0,0,0,0]
[{"$nulls":13},320,0,0,0,0,0,0,0,0,0,0]
[{"$nulls":13},340,0,0,0,0,0,0,0,0,0,0]
[{"$nulls":13},360,0,0,0,0,0,0,0,0,0,0]
[{"$nulls":13},380,0,0,0,0,0,0,0,0,0,0]
[{"$nulls":13},400,0,0,0,0,0,0,0,0,0,0]
[{"$nulls":13},420,0,0,0,0,0,0,0,0,0,0]
[{"$nulls":13},440,0,0,0,0,0,0,0,0,0,0]
[{"$nulls":13},460,0,0,0,0,0,0,0,0,0,0]
[{"$nulls":13},480,0,0,0,0,0,0,0,0,0,0]
[{"$nulls":13},500,0,0,0,0,0,0,0,0,0,0]
[{"$nulls":13},520,0,0,0,0,0,0,0,0,0,0]
[{"$nulls":13},540,0,0,0,0,0,0,0,0,0,0]
[{"$nulls":13},560,0,0,0,0,0,0,0,0,0,0]
[{"$nulls":13},580,0,0,0,0,0,0,0,0,0,0]
[{"$nulls":13},600,0,0,0,0,0,0,0,0,0,0]

{"sheet":"AX01-SN (0)","index":4,"n_rows":185,"n_cols":25,"rows_kept":185}
[]
[]
[null,"Plattendruckversuch nach SN670317b"]
[null,null,"Prüfinstitut:",{"$f":"IF('Statistik stat'!D1=\"\",\"\",'Statistik stat'!D1)","v":""},{"$nulls":3},"Datensatz:",{"$f":"_Datensatznummer","v":0}]
[null,null,"Auftraggeber:",{"$f":"IF('Statistik stat'!D5=\"\",\"\",'Statistik stat'!D5)","v":""},{"$nulls":3},"Kartennummer:",{"$f":"_Kartennummer","v":0}]
[null,null,"Vorhaben/Auftrag:",{"$f":"IF('Statistik stat'!D6=\"\",\"\",'Statistik stat'!D6)","v":""},{"$nulls":3},"Versuchsbeginn:",{"$f":"_MessDatum","v":"00:00:00"}]
[null,null,"Prüftiefe:",{"$f":"IF('Statistik stat'!D7=\"\",\"\",'Statistik stat'!D7)","v":""},{"$nulls":3},"Versuchsende:",{"$f":"_MessDatum1","v":"00:00:00"}]
[null,null,"Schicht:",{"$f":"IF('Statistik stat'!D8=\"\",\"\",'Statistik stat'!D8)","v":""},{"$nulls":3},"Gerätenummer:",{"$f":"_Geraetenummer","v":0}]
[null,null,"Bemerkungen:",{"$f":"IF('Statistik stat'!D9=\"\",\"\",'Statistik stat'!D9)","v":""},{"$nulls":3},"Plattendurchmesser:",{"$f":"_PlattenDurchmesser","v":0}]
[null,null,"Witterung/Temp.:",{"$f":"IF('Statistik stat'!D10=\"\",\"\",'Statistik stat'!D10)","v":""},{"$nulls":3},"Hebelverhältnis:",{"$f":"_Hebelarm","v":{"v":0,"d":"1:0.00"}}]
[null,null,"Prüfpersonal:",{"$f":"IF('Statistik stat'!D11=\"\",\"\",'Statistik stat'!D11)","v":""},{"$nulls":3},{"$f":"IF(_Tilt_mm=\"\",\"\",\"max plate tilt:\")","v":""},{"$f":"IF(_Tilt_mm=\"\",\"\",_Tilt_mm)","v":""}]
[null,null,"Ausrüstung:","AX01a, Anix GmbH",{"$nulls":3},{"$f":"IF(_cLat=\"\",\"\",\"Lat.:\")","v":""}]
[{"$nulls":7},{"$f":"IF(_cLon=\"\",\"\",\"Lon.:\")","v":""}]
[{"$nulls":5},{"$f":"IF(_cZone=\"\",\"\",\"UTM:\")","v":""}]
[null,"Nr.","Spannung\nso [MN/m²]","Setzung \ns [mm]","Zeit\nt [s]"]
[null,"Erstbelastung"]
[null,null,{"v":0,"d":"0.0000"},0.01]
[null,"Entlastung"]
[null,null,{"v":0,"d":"0.0000"},0.02]
[null,"Zweitbelastung"]
[null,null,{"v":0,"d":"0.0000"},0.03]
[null,"2.Entlastung"]
[null,null,{"v":0,"d":"0.0000"},0.04]
[null,"Drittbelastung"]
[null,null,{"v":0,"d":"0.0000"},0.05]
{"$rows_empty":17}
[{"$nulls":6},"Parameter","Erstbelastung","Zweitbelastung"]
[{"$nulls":6},"a0",{"$f":"IF(_Parameter0=\"\",\"\",_Parameter0)","v":""},{"$f":"IF(_Parameter2=\"\",\"\",_Parameter2)","v":""}]
[{"$nulls":6},"a1",{"$f":"IF(P128=\"\",\"\",P128)","v":""},{"$f":"IF(P130=\"\",\"\",P130)","v":""}]
[{"$nulls":6},"a2",{"$f":"IF(Q128=\"\",\"\",Q128)","v":""},{"$f":"IF(Q130=\"\",\"\",Q130)","v":""}]
[]
[{"$nulls":6},"Ergebnisse"]
[{"$nulls":7},"Erstbelastung","Zweitbelastung"]
[{"$nulls":6},"somax [MN/m²]",{"$f":"S128","v":{"v":0,"d":"0.000"}},{"$f":"S130","v":{"v":0,"d":"0.000"}}]
[{"$nulls":6},"Ev [MN/m²]",{"$f":"T128","v":{"v":0,"d":"0.0"}},{"$f":"IF(T130=0,\"\",T130)","v":""}]
[{"$nulls":6},"Ev2/Ev1:",{"$f":"IF(OR(I51=\"\",H51=0),\"\",I51/H51)","v":""}]
[{"$nulls":6},"Untergrund"]
[{"$nulls":6},"s1 [MN/m²]",0.05,0.05]
[{"$nulls":6},"s2 [MN/m²]",0.15,0.15]
[{"$nulls":6},"ME [MN/m²]",{"$f":"IF(P101<>0,P101,\"\")","v":""},{"$f":"IF(P111<>0,P111,\"\")","v":""}]
[{"$nulls":6},"ME2/ME1:",{"$f":"IF(OR(I56=\"\",H56=0),\"\",I56/H56)","v":""}]
[{"$nulls":6},"Fundationsschicht"]
[{"$nulls":6},"s1 [MN/m²]",0.15,0.15]
[{"$nulls":6},"s2 [MN/m²]",0.25,0.25]
[{"$nulls":6},"ME [MN/m²]",{"$f":"IF(P102<>0,P102,\"\")","v":""},{"$f":"IF(P112<>0,P112,\"\")","v":""}]
[{"$nulls":6},"ME2/ME1:",{"$f":"IF(OR(I61=\"\",H61=0),\"\",I61/H61)","v":""}]
[{"$nulls":6},"Tragschicht"]
[{"$nulls":6},"s1 [MN/m²]",0.25,0.25]
[{"$nulls":6},"s2 [MN/m²]",0.35,0.35]
[{"$nulls":6},"ME [MN/m²]",{"$f":"IF(P103<>0,P103,\"\")","v":""},{"$f":"IF(P113<>0,P113,\"\")","v":""}]
[{"$nulls":6},"ME2/ME1:",{"$f":"IF(OR(I66=\"\",H66=0),\"\",I66/H66)","v":""}]
{"$rows_empty":33}
[{"$nulls":13},"0: ME"]
[]
[]
[]
[]
[{"$nulls":13},"1: ME"]
[]
[]
[]
[]
[{"$nulls":13},"2: ME"]
[]
[]
[]
[]
[{"$nulls":13},"3: ME"]
[]
[]
[]
[]
[{"$nulls":13},"4: ME"]
[]
[]
[]
[]
[{"$nulls":14},"Parameter"]
[{"$nulls":14},"a0","a1","a2","Index","smax","Ev","k1","k2","a"]
[]
[]
[]
[]
[]
[{"$nulls":14},"Lat:"]
[{"$nulls":14},"Lon:"]
[{"$nulls":14},"Plattendurchmesser:"]
[{"$nulls":14},"Hebelverhältnis:"]
[{"$nulls":14},"Datum:"]
[{"$nulls":14},"Datum (Ende):"]
[{"$nulls":14},"Gerätenummer:"]
[{"$nulls":14},"Datensatznummer:"]
[{"$nulls":14},"Kartennummer:"]
[{"$nulls":14},"Stepwidth:"]
[{"$nulls":14},"Kippen:"]
[{"$nulls":14},"Mejne vrednosti"]
[{"$nulls":14},"Ev2","Ev2/Ev1"]
[{"$nulls":14},45,2.2]
[{"$nulls":14},80,2.3]
[{"$nulls":14},100,2.5]
[{"$nulls":14},120,2.6]
[{"$nulls":14},150]
[{"$nulls":14},180]
[]
[{"$nulls":14},"Krivulje"]
[{"$nulls":14},"Sigma",null,"Erstbelastung",null,"Entlastung",null,"Zweitbelastung",null,"2. Entlastung",null,"Drittbelastung"]
[{"$nulls":14},0,{"$f":"O155","v":0},{"$f":"IF(0=$S$128,P155,$O$128+$P$128*P155+$Q$128*P155*P155)","v":0},{"$f":"IF(OR($S$128=0,O155<=$S$129),O155,$S$129)","v":0},{"$f":"IF(0=$S$128,R155*1.1,$O$129+$P$129*R155+$Q$129*R155*R155)","v":0},{"$f":"IF(OR($S$128=0,O155<=$S$130),O155,$S$130)","v":0},{"$f":"IF(0=$S$128,T155*1.2,$O$130+$P$130*T155+$Q$130*T155*T155)","v":0},{"$f":"IF(OR($S$128=0,O155<=$S$143),O155,$S$131)","v":0},{"$f":"IF(0=$S$128,V155*1.3,$O$131+$P$131*V155+$Q$131*V155*V155)","v":0},{"$f":"IF(OR($S$128=0,O155<=$S$132),O155,$S$132)","v":0},{"$f":"IF(0=$S$128,X155*1.4,$O$132+$P$132*X155+$Q$132*X155*X155)","v":0}]
[{"$nulls":14},0.02,{"$f":"O156","v":0.02},{"$f":"IF(0=$S$128,P156,$O$128+$P$128*P156+$Q$128*P156*P156)","v":0.02},{"$f":"IF(OR($S$128=0,O156<=$S$129),O156,$S$129)","v":0.02},{"$f":"IF(0=$S$128,R156*1.1,$O$129+$P$129*R156+$Q$129*R156*R156)","v":0.022000000000000002},{"$f":"IF(OR($S$128=0,O156<=$S$130),O156,$S$130)","v":0.02},{"$f":"IF(0=$S$128,T156*1.2,$O$130+$P$130*T156+$Q$130*T156*T156)","v":0.024},{"$f":"IF(OR($S$128=0,O156<=$S$143),O156,$S$131)","v":0.02},{"$f":"IF(0=$S$128,V156*1.3,$O$131+$P$131*V156+$Q$131*V156*V156)","v":0.026000000000000002},{"$f":"IF(OR($S$128=0,O156<=$S$132),O156,$S$132)","v":0.02},{"$f":"IF(0=$S$128,X156*1.4,$O$132+$P$132*X156+$Q$132*X156*X156)","v":0.027999999999999997}]
[{"$nulls":14},0.04,{"$f":"O157","v":0.04},{"$f":"IF(0=$S$128,P157,$O$128+$P$128*P157+$Q$128*P157*P157)","v":0.04},{"$f":"IF(OR($S$128=0,O157<=$S$129),O157,$S$129)","v":0.04},{"$f":"IF(0=$S$128,R157*1.1,$O$129+$P$129*R157+$Q$129*R157*R157)","v":0.044000000000000004},{"$f":"IF(OR($S$128=0,O157<=$S$130),O157,$S$130)","v":0.04},{"$f":"IF(0=$S$128,T157*1.2,$O$130+$P$130*T157+$Q$130*T157*T157)","v":0.048},{"$f":"IF(OR($S$128=0,O157<=$S$143),O157,$S$131)","v":0.04},{"$f":"IF(0=$S$128,V157*1.3,$O$131+$P$131*V157+$Q$131*V157*V157)","v":0.052000000000000005},{"$f":"IF(OR($S$128=0,O157<=$S$132),O157,$S$132)","v":0.04},{"$f":"IF(0=$S$128,X157*1.4,$O$132+$P$132*X157+$Q$132*X157*X157)","v":0.055999999999999994}]
[{"$nulls":14},0.06,{"$f":"IF(O158<=$S$128,O158,$S$128)","v":0},{"$f":"$O$128+$P$128*P158+$Q$128*P158*P158","v":0},{"$f":"IF(O158<=$S$129,O158,$S$129)","v":0},{"$f":"$O$129+$P$129*R158+$Q$129*R158*R158","v":0},{"$f":"IF(O158<=$S$130,O158,$S$130)","v":0},{"$f":"$O$130+$P$130*T158+$Q$130*T158*T158","v":0},{"$f":"IF(O158<=$S$143,O158,$S$131)","v":0},{"$f":"$O$131+$P$131*V158+$Q$131*V158*V158","v":0},{"$f":"IF(O158<=$S$132,O158,$S$132)","v":0},{"$f":"$O$132+$P$132*X158+$Q$132*X158*X158","v":0}]
[{"$nulls":14},0.08,0,0,0,0,0,0,0,0,0,0]
[{"$nulls":14},0.1,0,0,0,0,0,0,0,0,0,0]
[{"$nulls":14},0.12,0,0,0,0,0,0,0,0,0,0]
[{"$nulls":14},0.14,0,0,0,0,0,0,0,0,0,0]
[{"$nulls":14},0.16,0,0,0,0,0,0,0,0,0,0]
[{"$nulls":14},0.18,0,0,0,0,0,0,0,0,0,0]
[{"$nulls":14},0.2,0,0,0,0,0,0,0,0,0,0]
[{"$nulls":14},0.22,0,0,0,0,0,0,0,0,0,0]
[{"$nulls":14},0.24,0,0,0,0,0,0,0,0,0,0]
[{"$nulls":14},0.26,0,0,0,0,0,0,0,0,0,0]
[{"$nulls":14},0.28,0,0,0,0,0,0,0,0,0,0]
[{"$nulls":14},0.3,0,0,0,0,0,0,0,0,0,0]
[{"$nulls":14},0.32,0,0,0,0,{"$f":"IF(O171<=$S$130,O171,$S$130)","v":0},0,0,0,0,0]
[{"$nulls":14},0.34,0,0,0,0,0,0,0,0,0,0]
[{"$nulls":14},0.36,0,0,0,0,0,0,0,0,0,0]
[{"$nulls":14},0.38,0,0,0,0,0,0,0,0,0,0]
[{"$nulls":14},0.4,0,0,0,0,0,0,0,0,0,0]
[{"$nulls":14},0.42,0,0,0,0,0,0,0,0,0,0]
[{"$nulls":14},0.44,0,0,0,0,0,0,0,0,0,0]
[{"$nulls":14},0.46,0,0,0,0,0,0,0,0,0,0]
[{"$nulls":14},0.48,0,0,0,0,0,0,0,0,0,0]
[{"$nulls":14},0.5,0,0,0,0,0,0,0,0,0,0]
[{"$nulls":14},0.52,0,0,0,0,0,0,0,0,0,0]
[{"$nulls":14},0.54,0,0,0,0,0,0,0,0,0,0]
[{"$nulls":14},0.56,0,0,0,0,0,0,0,0,0,0]
[{"$nulls":14},0.58,0,0,0,0,0,0,0,0,0,0]
[{"$nulls":14},0.6,0,0,0,0,0,0,0,0,0,0]

{"sheet":"AX01-ÖNORM (0)","index":5,"n_rows":185,"n_cols":25,"rows_kept":185}
[]
[]
[null,"Plattendruckversuch nach ÖNORMB4417"]
[null,null,"Prüfinstitut:",{"$f":"IF('Statistik stat'!D1=\"\",\"\",'Statistik stat'!D1)","v":""},{"$nulls":4},"Datensatz:",{"$f":"_Datensatznummer","v":0}]
[null,null,"Auftraggeber:",{"$f":"IF('Statistik stat'!D5=\"\",\"\",'Statistik stat'!D5)","v":""},{"$nulls":4},"Kartennummer:",{"$f":"_Kartennummer","v":0}]
[null,null,"Vorhaben/Auftrag:",{"$f":"IF('Statistik stat'!D6=\"\",\"\",'Statistik stat'!D6)","v":""},{"$nulls":4},"Versuchsbeginn:",{"$f":"_MessDatum","v":"00:00:00"}]
[null,null,"Prüftiefe:",{"$f":"IF('Statistik stat'!D7=\"\",\"\",'Statistik stat'!D7)","v":""},{"$nulls":4},"Versuchsende:",{"$f":"_MessDatum1","v":"00:00:00"}]
[null,null,"Schicht:",{"$f":"IF('Statistik stat'!D8=\"\",\"\",'Statistik stat'!D8)","v":""},{"$nulls":4},"Gerätenummer:",{"$f":"_Geraetenummer","v":0}]
[null,null,"Bemerkungen:",{"$f":"IF('Statistik stat'!D9=\"\",\"\",'Statistik stat'!D9)","v":""},{"$nulls":4},"Plattendurchmesser:",{"$f":"_PlattenDurchmesser","v":0}]
[null,null,"Witterung/Temp.:",{"$f":"IF('Statistik stat'!D10=\"\",\"\",'Statistik stat'!D10)","v":""},{"$nulls":4},"Hebelverhältnis:",{"$f":"_Hebelarm","v":{"v":0,"d":"1:0.00"}}]
[null,null,"Prüfpersonal:",{"$f":"IF('Statistik stat'!D11=\"\",\"\",'Statistik stat'!D11)","v":""},{"$nulls":4},{"$f":"IF(_Tilt_mm=\"\",\"\",\"max plate tilt:\")","v":""},{"$f":"IF(_Tilt_mm=\"\",\"\",_Tilt_mm)","v":""}]
[null,null,"Ausrüstung:","AX01a, Anix GmbH",{"$nulls":4},{"$f":"IF(_cLat=\"\",\"\",\"Lat.:\")","v":""}]
[{"$nulls":8},{"$f":"IF(_cLon=\"\",\"\",\"Lon.:\")","v":""}]
[{"$nulls":6},{"$f":"IF(_cZone=\"\",\"\",\"UTM:\")","v":""}]
[null,"Nr.","Spannung\nso [MN/m²]","Setzung \ns [mm]","Zeit\nt [s]"]
[null,"Erstbelastung"]
[null,null,{"v":0,"d":"0.0000"},0.01]
[null,"Entlastung"]
[null,null,{"v":1E-3,"d":"0.0010"},0.02]
[null,"Zweitbelastung"]
[null,null,{"v":2E-3,"d":"0.0020"},0.03]
[null,"2.Entlastung"]
[null,null,{"v":0.003,"d":"0.0030"},0.04]
[null,"Drittbelastung"]
[null,null,{"v":0.004,"d":"0.0040"},0.05]
{"$rows_empty":19}
[{"$nulls":6},"Ergebnisse","Erstbelastung","Zweitbelastung","Drittbelastung"]
[{"$nulls":6},"somax [MN/m²]",{"$f":"S128","v":{"v":0,"d":"0.000"}},{"$f":"IF(S130<>0,S130,\"\")","v":""},{"$f":"IF(S132<>0,S132,\"\")","v":""}]
[{"$nulls":6},"Ev [MN/m²]",{"$f":"T128","v":{"v":0,"d":"0.0"}},{"$f":"IF(T130<>0,T130,\"\")","v":""},{"$f":"IF(T132<>0,T132,\"\")","v":""}]
[{"$nulls":6},"Ev2/Ev1:",{"$f":"IF(OR(H47=0,I47=\"\"),\"\",I47/H47)","v":""}]
[{"$nulls":6},"Ev3/Ev2:",null,{"$f":"IF(OR(I47=0,I47=\"\",J47=\"\"),\"\",J47/I47)","v":""}]
[]
[{"$nulls":6},{"$f":"IF(H51<>\"\",\"Bettungsmodul:\",\"\")","v":""},null,{"$f":"IF(H51<>\"\",\"MN/m³\",\"\")","v":""}]
{"$rows_empty":49}
[{"$nulls":13},"0: ME"]
[]
[]
[]
[]
[{"$nulls":13},"1: ME"]
[]
[]
[]
[]
[{"$nulls":13},"2: ME"]
[]
[]
[]
[]
[{"$nulls":13},"3: ME"]
[]
[]
[]
[]
[{"$nulls":13},"4: ME"]
[]
[]
[]
[]
[{"$nulls":14},"Parameter"]
[{"$nulls":14},"a0","a1","a2","Index","smax","Ev","k1","k2","a"]
[]
[]
[]
[]
[]
[{"$nulls":14},"Lat:"]
[{"$nulls":14},"Lon:"]
[{"$nulls":14},"Plattendurchmesser:"]
[{"$nulls":14},"Hebelverhältnis:"]
[{"$nulls":14},"Datum:"]
[{"$nulls":14},"Datum (Ende):"]
[{"$nulls":14},"Gerätenummer:"]
[{"$nulls":14},"Datensatznummer:"]
[{"$nulls":14},"Kartennummer:"]
[{"$nulls":14},"Stepwidth:"]
[]
[{"$nulls":14},"Mejne vrednosti"]
[{"$nulls":14},"Ev2","Ev2/Ev1"]
[{"$nulls":14},45,2.2]
[{"$nulls":14},80,2.3]
[{"$nulls":14},100,2.5]
[{"$nulls":14},120,2.6]
[{"$nulls":14},150]
[{"$nulls":14},180]
[]
[{"$nulls":14},"Krivulje"]
[{"$nulls":14},"Sigma",null,"Erstbelastung",null,"Entlastung",null,"Zweitbelastung",null,"2. Entlastung",null,"Drittbelastung"]
[{"$nulls":14},0,{"$f":"O155","v":0},{"$f":"IF(0=$S$128,P155,$O$128+$P$128*P155+$Q$128*P155*P155)","v":0},{"$f":"IF(OR($S$128=0,O155<=$S$129),O155,$S$129)","v":0},{"$f":"IF(0=$S$128,R155*1.1,$O$129+$P$129*R155+$Q$129*R155*R155)","v":0},{"$f":"IF(OR($S$128=0,O155<=$S$130),O155,$S$130)","v":0},{"$f":"IF(0=$S$128,T155*1.2,$O$130+$P$130*T155+$Q$130*T155*T155)","v":0},{"$f":"IF(OR($S$128=0,O155<=$S$143),O155,$S$131)","v":0},{"$f":"IF(0=$S$128,V155*1.3,$O$131+$P$131*V155+$Q$131*V155*V155)","v":0},{"$f":"IF(OR($S$128=0,O155<=$S$132),O155,$S$132)","v":0},{"$f":"IF(0=$S$128,X155*1.4,$O$132+$P$132*X155+$Q$132*X155*X155)","v":0}]
[{"$nulls":14},0.02,{"$f":"O156","v":0.02},{"$f":"IF(0=$S$128,P156,$O$128+$P$128*P156+$Q$128*P156*P156)","v":0.02},{"$f":"IF(OR($S$128=0,O156<=$S$129),O156,$S$129)","v":0.02},{"$f":"IF(0=$S$128,R156*1.1,$O$129+$P$129*R156+$Q$129*R156*R156)","v":0.022000000000000002},{"$f":"IF(OR($S$128=0,O156<=$S$130),O156,$S$130)","v":0.02},{"$f":"IF(0=$S$128,T156*1.2,$O$130+$P$130*T156+$Q$130*T156*T156)","v":0.024},{"$f":"IF(OR($S$128=0,O156<=$S$143),O156,$S$131)","v":0.02},{"$f":"IF(0=$S$128,V156*1.3,$O$131+$P$131*V156+$Q$131*V156*V156)","v":0.026000000000000002},{"$f":"IF(OR($S$128=0,O156<=$S$132),O156,$S$132)","v":0.02},{"$f":"IF(0=$S$128,X156*1.4,$O$132+$P$132*X156+$Q$132*X156*X156)","v":0.027999999999999997}]
[{"$nulls":14},0.04,{"$f":"O157","v":0.04},{"$f":"IF(0=$S$128,P157,$O$128+$P$128*P157+$Q$128*P157*P157)","v":0.04},{"$f":"IF(OR($S$128=0,O157<=$S$129),O157,$S$129)","v":0.04},{"$f":"IF(0=$S$128,R157*1.1,$O$129+$P$129*R157+$Q$129*R157*R157)","v":0.044000000000000004},{"$f":"IF(OR($S$128=0,O157<=$S$130),O157,$S$130)","v":0.04},{"$f":"IF(0=$S$128,T157*1.2,$O$130+$P$130*T157+$Q$130*T157*T157)","v":0.048},{"$f":"IF(OR($S$128=0,O157<=$S$143),O157,$S$131)","v":0.04},{"$f":"IF(0=$S$128,V157*1.3,$O$131+$P$131*V157+$Q$131*V157*V157)","v":0.052000000000000005},{"$f":"IF(OR($S$128=0,O157<=$S$132),O157,$S$132)","v":0.04},{"$f":"IF(0=$S$128,X157*1.4,$O$132+$P$132*X157+$Q$132*X157*X157)","v":0.055999999999999994}]
[{"$nulls":14},0.06,{"$f":"IF(O158<=$S$128,O158,$S$128)","v":0},{"$f":"$O$128+$P$128*P158+$Q$128*P158*P158","v":0},{"$f":"IF(O158<=$S$129,O158,$S$129)","v":0},{"$f":"$O$129+$P$129*R158+$Q$129*R158*R158","v":0},{"$f":"IF(O158<=$S$130,O158,$S$130)","v":0},{"$f":"$O$130+$P$130*T158+$Q$130*T158*T158","v":0},{"$f":"IF(O158<=$S$143,O158,$S$131)","v":0},{"$f":"$O$131+$P$131*V158+$Q$131*V158*V158","v":0},{"$f":"IF(O158<=$S$132,O158,$S$132)","v":0},{"$f":"$O$132+$P$132*X158+$Q$132*X158*X158","v":0}]
[{"$nulls":14},0.08,0,0,0,0,0,0,0,0,0,0]
[{"$nulls":14},0.1,0,0,0,0,0,0,0,0,0,0]
[{"$nulls":14},0.12,0,0,0,0,0,0,0,0,0,0]
[{"$nulls":14},0.14,0,0,0,0,0,0,0,0,0,0]
[{"$nulls":14},0.16,0,0,0,0,0,0,0,0,0,0]
[{"$nulls":14},0.18,0,0,0,0,0,0,0,0,0,0]
[{"$nulls":14},0.2,0,0,0,0,0,0,0,0,0,0]
[{"$nulls":14},0.22,0,0,0,0,0,0,0,0,0,0]
[{"$nulls":14},0.24,0,0,0,0,0,0,0,0,0,0]
[{"$nulls":14},0.26,0,0,0,0,0,0,0,0,0,0]
[{"$nulls":14},0.28,0,0,0,0,0,0,0,0,0,0]
[{"$nulls":14},0.3,0,0,0,0,0,0,0,0,0,0]
[{"$nulls":14},0.32,0,0,0,0,0,0,0,0,0,0]
[{"$nulls":14},0.34,0,0,0,0,0,0,0,0,0,0]
[{"$nulls":14},0.36,0,0,0,0,0,0,0,0,0,0]
[{"$nulls":14},0.38,0,0,0,0,0,0,0,0,0,0]
[{"$nulls":14},0.4,0,0,0,0,0,0,0,0,0,0]
[{"$nulls":14},0.42,0,0,0,0,0,0,0,0,0,0]
[{"$nulls":14},0.44,0,0,0,0,0,0,0,0,0,0]
[{"$nulls":14},0.46,0,0,0,0,0,0,0,0,0,0]
[{"$nulls":14},0.48,0,0,0,0,0,0,0,0,0,0]
[{"$nulls":14},0.5,0,0,0,0,0,0,0,0,0,0]
[{"$nulls":14},0.52,0,0,0,0,0,0,0,0,0,0]
[{"$nulls":14},0.54,0,0,0,0,0,0,0,0,0,0]
[{"$nulls":14},0.56,0,0,0,0,0,0,0,0,0,0]
[{"$nulls":14},0.58,0,0,0,0,0,0,0,0,0,0]
[{"$nulls":14},0.6,0,0,0,0,0,0,0,0,0,0]

{"sheet":"AX01-SB (0)","index":6,"n_rows":154,"n_cols":24,"rows_kept":154,"merged":[[2,1,2,9],[16,1,16,2],[18,1,18,2],[20,1,20,2],[36,6,36,8],[37,6,37,8],[38,6,38,7],[39,6,39,7],[40,6,40,7],[41,6,41,7],[42,6,42,8],[43,6,43,7],[44,6,44,7],[45,6,45,7],[46,6,46,7]]}
[]
[]
[null,"Plate load test SB250/TB2000"]
[null,null,"Institute:",{"$f":"IF('Statistik stat'!D1=\"\",\"\",'Statistik stat'!D1)","v":""},{"$nulls":3},"Record number:",{"$f":"_Datensatznummer","v":0}]
[null,null,"Client:",{"$f":"IF('Statistik stat'!D5=\"\",\"\",'Statistik stat'!D5)","v":""},{"$nulls":3},"Card number.:",{"$f":"_Kartennummer","v":0}]
[null,null,"Project:",{"$f":"IF('Statistik stat'!D6=\"\",\"\",'Statistik stat'!D6)","v":""},{"$nulls":3},"Start of test:",{"$f":"_MessDatum","v":"00:00:00"}]
[null,null,"Test depth:",{"$f":"IF('Statistik stat'!D7=\"\",\"\",'Statistik stat'!D7)","v":""},{"$nulls":3},"End of test:",{"$f":"_MessDatum1","v":"00:00:00"}]
[null,null,"Layer:",{"$f":"IF('Statistik stat'!D8=\"\",\"\",'Statistik stat'!D8)","v":""},{"$nulls":3},"Device number:",{"$f":"_Geraetenummer","v":0}]
[null,null,"Remarks:",{"$f":"IF('Statistik stat'!D9=\"\",\"\",'Statistik stat'!D9)","v":""},{"$nulls":3},"Ø-Plate:",{"$f":"_PlattenDurchmesser","v":0}]
[null,null,"Weather/Temp.:",{"$f":"IF('Statistik stat'!D10=\"\",\"\",'Statistik stat'!D10)","v":""},{"$nulls":3},"Lever ratio:",{"$f":"_Hebelarm","v":{"v":0,"d":"1:0.00"}}]
[null,null,"Operator:",{"$f":"IF('Statistik stat'!D11=\"\",\"\",'Statistik stat'!D11)","v":""},{"$nulls":3},{"$f":"IF(_Tilt_mm=\"\",\"\",\"max plate tilt:\")","v":""},{"$f":"IF(_Tilt_mm=\"\",\"\",_Tilt_mm)","v":""}]
[null,null,"Equipment:","Ax01a, Anix GmbH",{"$nulls":3},{"$f":"IF(_cLat=\"\",\"\",\"Lat.:\")","v":""}]
[{"$nulls":7},{"$f":"IF(_cLon=\"\",\"\",\"Lon.:\")","v":""}]
[{"$nulls":5},{"$f":"IF(_cZone=\"\",\"\",\"UTM:\")","v":""}]
[{"$nulls":6},{"$f":"IF(_cZone=\"\",\"\",\"Lambert 72:\")","v":""},{"$f":"Lambert72_X(_cLat,_cLon)","v":""},{"$f":"Lambert72_Y(_cLat,_cLon)","v":""}]
[null,"Nr.","load\nso [MN/m²]","deflection \ns [mm]","time \nt [s]"]
[null,"first loading"]
[]
[null,{"$f":"IF(_MessTab2=\"\",\"\",\"second loading\")","v":""}]
[]
[null,{"$f":"IF(_MessTab4=\"\",\"\",\"third loading\")","v":""}]
{"$rows_empty":15}
[{"$nulls":6},"Results"]
[{"$nulls":6},"first load cycle"]
[{"$nulls":6},"load interval (kN/m²)",null,"M1  (MN/m²)"]
[{"$nulls":6},{"$f":"IF(N69<>\"\",CONCATENATE(N68/10,\"-\",N69/10),\"\")","v":""},null,{"$f":"IF(O68<>\"\",O68,\"\")","v":""}]
[{"$nulls":6},{"$f":"IF(N70<>\"\",CONCATENATE(N69/10,\"-\",N70/10),\"\")","v":""},null,{"$f":"IF(O69<>\"\",O69,\"\")","v":""}]
[{"$nulls":6},{"$f":"IF(N71<>\"\",CONCATENATE(N70/10,\"-\",N71/10),\"\")","v":""},null,{"$f":"IF(O70<>\"\",O70,\"\")","v":""}]
[{"$nulls":6},"second load cycle"]
[{"$nulls":6},"load interval (kN/m²)",null,"M2  (MN/m²)"]
[{"$nulls":6},{"$f":"IF(N79<>\"\",CONCATENATE(N78/10,\"-\",N79/10),\"\")","v":""},null,{"$f":"IF(O78<>\"\",O78,\"\")","v":""}]
[{"$nulls":6},{"$f":"IF(N80<>\"\",CONCATENATE(N79/10,\"-\",N80/10),\"\")","v":""},null,{"$f":"IF(O79<>\"\",O79,\"\")","v":""}]
[{"$nulls":6},{"$f":"IF(N81<>\"\",CONCATENATE(N80/10,\"-\",N81/10),\"\")","v":""},null,{"$f":"IF(O80<>\"\",O80,\"\")","v":""}]
{"$rows_empty":20}
[{"$nulls":12},"0: ME"]
[]
[]
[]
[]
[{"$nulls":12},"1: ME"]
[]
[]
[]
[]
[{"$nulls":12},"2: ME"]
[]
[]
[]
[]
[{"$nulls":12},"3: ME"]
[]
[]
[]
[]
[{"$nulls":12},"4: ME"]
[]
[]
[]
[]
[]
[]
[{"$nulls":13},"Parameter"]
[{"$nulls":13},"a0","a1","a2","Index","smax","Ev","k1","k2","a"]
[]
[]
[]
[]
[]
[{"$nulls":13},"Lat:"]
[{"$nulls":13},"Lon:"]
[{"$nulls":13},"Plattendurchmesser:"]
[{"$nulls":13},"Hebelverhältnis:"]
[{"$nulls":13},"Datum:"]
[{"$nulls":13},"Datum (Ende):"]
[{"$nulls":13},"Gerätenummer:"]
[{"$nulls":13},"Datensatznummer:"]
[{"$nulls":13},"Kartennummer:"]
[{"$nulls":13},"Stepwidth:"]
[{"$nulls":13},"Kippweg Plattenrand:"]
[{"$nulls":13},"Grenzwerte"]
[{"$nulls":13},"Ev2","Ev2/Ev1"]
[{"$nulls":13},45,2.2]
[{"$nulls":13},80,2.3]
[{"$nulls":13},100,2.5]
[{"$nulls":13},120,2.6]
[{"$nulls":13},150]
[{"$nulls":13},180]
[]
[{"$nulls":13},"Kurven"]
[{"$nulls":13},"Sigma",null,"_Erstbelastung_",null,"_Entlastung_",null,"_Zweitbelastung_",null,"_Entlastung_",null,"_Drittbelastung_"]
[{"$nulls":13},0,{"$f":"IF(N124<=$R$97,N124,$R$97)","v":0},{"$f":"$N$97+$O$97*O124+$P$97*O124*O124","v":0},{"$f":"IF(N124<=$R$98,N124,$R$98)","v":0},{"$f":"$N$98+$O$98*Q124+$P$98*Q124*Q124","v":0},{"$f":"IF(N124<=$R$99,N124,$R$99)","v":0},{"$f":"$N$99+$O$99*S124+$P$99*S124*S124","v":0},{"$f":"IF(N124<=$R$100,N124,$R$100)","v":0},{"$f":"$N$100+$O$100*U124+$P$100*U124*U124","v":0},{"$f":"IF(N124<=$R$101,N124,$R$101)","v":0},{"$f":"$N$101+$O$101*W124+$P$101*W124*W124","v":0}]
[{"$nulls":13},0.02,{"$f":"IF(N125<=$R$97,N125,$R$97)","v":0},{"$f":"$N$97+$O$97*O125+$P$97*O125*O125","v":0},{"$f":"IF(N125<=$R$98,N125,$R$98)","v":0},{"$f":"$N$98+$O$98*Q125+$P$98*Q125*Q125","v":0},{"$f":"IF(N125<=$R$99,N125,$R$99)","v":0},{"$f":"$N$99+$O$99*S125+$P$99*S125*S125","v":0},{"$f":"IF(N125<=$R$100,N125,$R$100)","v":0},{"$f":"$N$100+$O$100*U125+$P$100*U125*U125","v":0},{"$f":"IF(N125<=$R$101,N125,$R$101)","v":0},{"$f":"$N$101+$O$101*W125+$P$101*W125*W125","v":0}]
[{"$nulls":13},0.04,0,0,0,0,0,0,0,0,0,0]
[{"$nulls":13},0.06,0,0,0,0,0,0,0,0,0,0]
[{"$nulls":13},0.08,0,0,0,0,0,0,0,0,0,0]
[{"$nulls":13},0.1,0,0,0,0,0,0,0,0,0,0]
[{"$nulls":13},0.12,0,0,0,0,0,0,0,0,0,0]
[{"$nulls":13},0.14,0,0,0,0,0,0,0,0,0,0]
[{"$nulls":13},0.16,0,0,0,0,0,0,0,0,0,0]
[{"$nulls":13},0.18,0,0,0,0,0,0,0,0,0,0]
[{"$nulls":13},0.2,0,0,0,0,0,0,0,0,0,0]
[{"$nulls":13},0.22,0,0,0,0,0,0,0,0,0,0]
[{"$nulls":13},0.24,0,0,0,0,0,0,0,0,0,0]
[{"$nulls":13},0.26,0,0,0,0,0,0,0,0,0,0]
[{"$nulls":13},0.28,0,0,0,0,0,0,0,0,0,0]
[{"$nulls":13},0.3,0,0,0,0,0,0,0,0,0,0]
[{"$nulls":13},0.32,0,0,0,0,0,0,0,0,0,0]
[{"$nulls":13},0.34,0,0,0,0,0,0,0,0,0,0]
[{"$nulls":13},0.36,0,0,0,0,0,0,0,0,0,0]
[{"$nulls":13},0.38,0,0,0,0,0,0,0,0,0,0]
[{"$nulls":13},0.4,0,0,0,0,0,0,0,0,0,0]
[{"$nulls":13},0.42,0,0,0,0,0,0,0,0,0,0]
[{"$nulls":13},0.44,0,0,0,0,0,0,0,0,0,0]
[{"$nulls":13},0.46,0,0,0,0,0,0,0,0,0,0]
[{"$nulls":13},0.48,0,0,0,0,0,0,0,0,0,0]
[{"$nulls":13},0.5,0,0,0,0,0,0,0,0,0,0]
[{"$nulls":13},0.52,0,0,0,0,0,0,0,0,0,0]
[{"$nulls":13},0.54,0,0,0,0,0,0,0,0,0,0]
[{"$nulls":13},0.56,0,0,0,0,0,0,0,0,0,0]
[{"$nulls":13},0.58,0,0,0,0,0,0,0,0,0,0]
[{"$nulls":13},0.6,0,0,0,0,0,0,0,0,0,0]

{"sheet":"AX01-NFP (0)","index":7,"n_rows":178,"n_cols":25,"rows_kept":178,"merged":[[2,1,2,9]]}
[]
[]
[null,"Plate load test   NFP94-117-1"]
[null,null,"Institute:",{"$f":"IF('Statistik stat'!D1=\"\",\"\",'Statistik stat'!D1)","v":""},{"$nulls":4},"Record number:",{"$f":"_Datensatznummer","v":0}]
[null,null,"Client:",{"$f":"IF('Statistik stat'!D5=\"\",\"\",'Statistik stat'!D5)","v":""},{"$nulls":4},"Card number.:",{"$f":"_Kartennummer","v":0}]
[null,null,"Project:",{"$f":"IF('Statistik stat'!D6=\"\",\"\",'Statistik stat'!D6)","v":""},{"$nulls":4},"Start of test:",{"$f":"_MessDatum","v":"00:00:00"}]
[null,null,"Test depth:",{"$f":"IF('Statistik stat'!D7=\"\",\"\",'Statistik stat'!D7)","v":""},{"$nulls":4},"End of test:",{"$f":"_MessDatum1","v":"00:00:00"}]
[null,null,"Layer:",{"$f":"IF('Statistik stat'!D8=\"\",\"\",'Statistik stat'!D8)","v":""},{"$nulls":4},"Device number:",{"$f":"_Geraetenummer","v":0}]
[null,null,"Remarks:",{"$f":"IF('Statistik stat'!D9=\"\",\"\",'Statistik stat'!D9)","v":""},{"$nulls":4},"Ø-Plate:",{"$f":"_PlattenDurchmesser","v":0}]
[null,null,"Weather/Temp.:",{"$f":"IF('Statistik stat'!D10=\"\",\"\",'Statistik stat'!D10)","v":""},{"$nulls":4},"Lever ratio:",{"$f":"_Hebelarm","v":{"v":0,"d":"1:0.00"}}]
[null,null,"Operator:",{"$f":"IF('Statistik stat'!D11=\"\",\"\",'Statistik stat'!D11)","v":""},{"$nulls":4},"Poisson:",{"$f":"_Poisson","v":0}]
[null,null,"Equipment:","Manufacturer: Anix GmbH, LVDT sensor 15mm, force sensor 100kN",{"$nulls":4},{"$f":"IF(_Tilt_mm=\"\",\"\",\"max plate tilt:\")","v":""},{"$f":"IF(_Tilt_mm=\"\",\"\",_Tilt_mm)","v":""}]
[{"$nulls":8},{"$f":"IF(_cLat=\"\",\"\",\"Lat.:\")","v":""}]
[{"$nulls":8},{"$f":"IF(_cLon=\"\",\"\",\"Lon.:\")","v":""}]
[{"$nulls":6},{"$f":"IF(_cZone=\"\",\"\",\"UTM:\")","v":""}]
[null,"Nr.","load\nso [MN/m²]","deflection \ns [mm]","time\nt [s]"]
[null,"Load cycle"]
[null,null,{"v":0,"d":"0.0000"},0.01]
{"$rows_empty":18}
[{"$nulls":6},"Ev1:",{"$f":"IF(T118<>0,T118,\"\")","v":""},"MN/m²"]
[{"$nulls":6},"Ev2:",{"$f":"IF(T120<>0,T120,\"\")","v":""},"MN/m²"]
[{"$nulls":6},"Ev2/Ev1:",{"$f":"IF(T118<>0,T120/T118,\"\")","v":""}]
[]
[{"$nulls":6},{"$f":"IF(H41<>\"\",\"Bettungsmodul:\",\"\")","v":""},null,{"$f":"IF(H41<>\"\",\"MN/m³\",\"\")","v":""}]
{"$rows_empty":49}
[{"$nulls":13},"0: ME"]
[]
[]
[]
[]
[{"$nulls":13},"1: ME"]
[]
[]
[]
[]
[{"$nulls":13},"2: ME"]
[]
[]
[]
[]
[{"$nulls":13},"3: ME"]
[]
[]
[]
[]
[{"$nulls":13},"4: ME"]
[]
[]
[]
[]
[{"$nulls":14},"Parameter"]
[{"$nulls":14},"a0","a1","a2","Index","smax","Ev","k1","k2","a"]
{"$rows_empty":7}
[{"$nulls":14},"Lat:"]
[{"$nulls":14},"Lon:"]
[{"$nulls":14},"Plattendurchmesser:"]
[{"$nulls":14},"Hebelverhältnis:"]
[{"$nulls":14},"Datum:"]
[{"$nulls":14},"Datum (Ende):"]
[{"$nulls":14},"Gerätenummer:"]
[{"$nulls":14},"Datensatznummer:"]
[{"$nulls":14},"Kartennummer:"]
[{"$nulls":14},"Stepwidth:"]
[{"$nulls":14},"Poisson:",0]
[{"$nulls":14},"Kipp:"]
[{"$nulls":14},"Mejne vrednosti"]
[{"$nulls":14},"Ev2","Ev2/Ev1"]
[{"$nulls":14},45,2.2]
[{"$nulls":14},80,2.3]
[{"$nulls":14},100,2.5]
[{"$nulls":14},120,2.6]
[{"$nulls":14},150]
[{"$nulls":14},180]
[]
[{"$nulls":14},"Krivulje"]
[{"$nulls":14},"Sigma",null,"Erstbelastung",null,"Entlastung",null,"Zweitbelastung",null,"2. Entlastung",null,"Drittbelastung"]
[{"$nulls":14},0,{"$f":"O148","v":0},{"$f":"IF(0=$S$118,P148,$O$118+$P$118*P148+$Q$118*P148*P148)","v":0},{"$f":"IF(OR($S$118=0,O148<=$S$119),O148,$S$119)","v":0},{"$f":"IF(0=$S$118,R148*1.1,$O$119+$P$119*R148+$Q$119*R148*R148)","v":0},{"$f":"IF(OR($S$118=0,O148<=$S$120),O148,$S$120)","v":0},{"$f":"IF(0=$S$118,T148*1.2,$O$120+$P$120*T148+$Q$120*T148*T148)","v":0},{"$f":"IF(OR($S$118=0,O148<=$S$135),O148,$S$121)","v":0},{"$f":"IF(0=$S$118,V148*1.3,$O$121+$P$121*V148+$Q$121*V148*V148)","v":0},{"$f":"IF(OR($S$118=0,O148<=$S$122),O148,$S$122)","v":0},{"$f":"IF(0=$S$118,X148*1.4,$O$122+$P$122*X148+$Q$122*X148*X148)","v":0}]
[{"$nulls":14},0.02,{"$f":"O149","v":0.02},{"$f":"IF(0=$S$118,P149,$O$118+$P$118*P149+$Q$118*P149*P149)","v":0.02},{"$f":"IF(OR($S$118=0,O149<=$S$119),O149,$S$119)","v":0.02},{"$f":"IF(0=$S$118,R149*1.1,$O$119+$P$119*R149+$Q$119*R149*R149)","v":0.022000000000000002},{"$f":"IF(OR($S$118=0,O149<=$S$120),O149,$S$120)","v":0.02},{"$f":"IF(0=$S$118,T149*1.2,$O$120+$P$120*T149+$Q$120*T149*T149)","v":0.024},{"$f":"IF(OR($S$118=0,O149<=$S$135),O149,$S$121)","v":0.02},{"$f":"IF(0=$S$118,V149*1.3,$O$121+$P$121*V149+$Q$121*V149*V149)","v":0.026000000000000002},{"$f":"IF(OR($S$118=0,O149<=$S$122),O149,$S$122)","v":0.02},{"$f":"IF(0=$S$118,X149*1.4,$O$122+$P$122*X149+$Q$122*X149*X149)","v":0.027999999999999997}]
[{"$nulls":14},0.04,{"$f":"O150","v":0.04},{"$f":"IF(0=$S$118,P150,$O$118+$P$118*P150+$Q$118*P150*P150)","v":0.04},{"$f":"IF(OR($S$118=0,O150<=$S$119),O150,$S$119)","v":0.04},{"$f":"IF(0=$S$118,R150*1.1,$O$119+$P$119*R150+$Q$119*R150*R150)","v":0.044000000000000004},{"$f":"IF(OR($S$118=0,O150<=$S$120),O150,$S$120)","v":0.04},{"$f":"IF(0=$S$118,T150*1.2,$O$120+$P$120*T150+$Q$120*T150*T150)","v":0.048},{"$f":"IF(OR($S$118=0,O150<=$S$135),O150,$S$121)","v":0.04},{"$f":"IF(0=$S$118,V150*1.3,$O$121+$P$121*V150+$Q$121*V150*V150)","v":0.052000000000000005},{"$f":"IF(OR($S$118=0,O150<=$S$122),O150,$S$122)","v":0.04},{"$f":"IF(0=$S$118,X150*1.4,$O$122+$P$122*X150+$Q$122*X150*X150)","v":0.055999999999999994}]
[{"$nulls":14},0.06,{"$f":"IF(O151<=$S$118,O151,$S$118)","v":0},{"$f":"$O$118+$P$118*P151+$Q$118*P151*P151","v":0},{"$f":"IF(O151<=$S$119,O151,$S$119)","v":0},{"$f":"$O$119+$P$119*R151+$Q$119*R151*R151","v":0},{"$f":"IF(O151<=$S$120,O151,$S$120)","v":0},{"$f":"$O$120+$P$120*T151+$Q$120*T151*T151","v":0},{"$f":"IF(O151<=$S$135,O151,$S$121)","v":0},{"$f":"$O$121+$P$121*V151+$Q$121*V151*V151","v":0},{"$f":"IF(O151<=$S$122,O151,$S$122)","v":0},{"$f":"$O$122+$P$122*X151+$Q$122*X151*X151","v":0}]
[{"$nulls":14},0.08,0,0,0,0,0,0,0,0,0,0]
[{"$nulls":14},0.1,0,0,0,0,0,0,0,0,0,0]
[{"$nulls":14},0.12,0,0,0,0,0,0,0,0,0,0]
[{"$nulls":14},0.14,0,0,0,0,0,0,0,0,0,0]
[{"$nulls":14},0.16,0,0,0,0,0,0,0,0,0,0]
[{"$nulls":14},0.18,0,0,0,0,0,0,0,0,0,0]
[{"$nulls":14},0.2,0,0,0,0,0,0,0,0,0,0]
[{"$nulls":14},0.22,0,0,0,0,0,0,0,0,0,0]
[{"$nulls":14},0.24,0,0,0,0,0,0,0,0,0,0]
[{"$nulls":14},0.26,0,0,0,0,0,0,0,0,0,0]
[{"$nulls":14},0.28,0,0,0,0,0,0,0,0,0,0]
[{"$nulls":14},0.3,0,0,0,0,0,0,0,0,0,0]
[{"$nulls":14},0.32,0,0,0,0,0,0,0,0,0,0]
[{"$nulls":14},0.34,0,0,0,0,0,0,0,0,0,0]
[{"$nulls":14},0.36,0,0,0,0,0,0,0,0,0,0]
[{"$nulls":14},0.38,0,0,0,0,0,0,0,0,0,0]
[{"$nulls":14},0.4,0,0,0,0,0,0,0,0,0,0]
[{"$nulls":14},0.42,0,0,0,0,0,0,0,0,0,0]
[{"$nulls":14},0.44,0,0,0,0,0,0,0,0,0,0]
[{"$nulls":14},0.46,0,0,0,0,0,0,0,0,0,0]
[{"$nulls":14},0.48,0,0,0,0,0,0,0,0,0,0]
[{"$nulls":14},0.5,0,0,0,0,0,0,0,0,0,0]
[{"$nulls":14},0.52,0,0,0,0,0,0,0,0,0,0]
[{"$nulls":14},0.54,0,0,0,0,0,0,0,0,0,0]
[{"$nulls":14},0.56,0,0,0,0,0,0,0,0,0,0]
[{"$nulls":14},0.58,0,0,0,0,0,0,0,0,0,0]
[{"$nulls":14},0.6,0,0,0,0,0,0,0,0,0,0]

{"sheet":"AX01-MSZ (0)","index":8,"n_rows":187,"n_cols":25,"rows_kept":187}
[]
[]
[null,"Plattendruckversuch nach MSZ2509/3"]
[null,null,"Prüfinstitut:",{"$f":"IF('Statistik stat'!D1=\"\",\"\",'Statistik stat'!D1)","v":""},{"$nulls":4},"Datensatz:",{"$f":"_Datensatznummer","v":0}]
[null,null,"Auftraggeber:",{"$f":"IF('Statistik stat'!D5=\"\",\"\",'Statistik stat'!D5)","v":""},{"$nulls":4},"Kartennummer:",{"$f":"_Kartennummer","v":0}]
[null,null,"Vorhaben/Auftrag:",{"$f":"IF('Statistik stat'!D6=\"\",\"\",'Statistik stat'!D6)","v":""},{"$nulls":4},"Versuchsbeginn:",{"$f":"_MessDatum","v":"00:00:00"}]
[null,null,"Prüftiefe:",{"$f":"IF('Statistik stat'!D7=\"\",\"\",'Statistik stat'!D7)","v":""},{"$nulls":4},"Versuchsende:",{"$f":"_MessDatum1","v":"00:00:00"}]
[null,null,"Schicht:",{"$f":"IF('Statistik stat'!D8=\"\",\"\",'Statistik stat'!D8)","v":""},{"$nulls":4},"Gerätenummer:",{"$f":"_Geraetenummer","v":0}]
[null,null,"Bemerkungen:",{"$f":"IF('Statistik stat'!D9=\"\",\"\",'Statistik stat'!D9)","v":""},{"$nulls":4},"Plattendurchmesser:",{"$f":"_PlattenDurchmesser","v":0}]
[null,null,"Witterung/Temp.:",{"$f":"IF('Statistik stat'!D10=\"\",\"\",'Statistik stat'!D10)","v":""},{"$nulls":4},"Hebelverhältnis:",{"$f":"_Hebelarm","v":{"v":0,"d":"1:0.00"}}]
[null,null,"Prüfpersonal:",{"$f":"IF('Statistik stat'!D11=\"\",\"\",'Statistik stat'!D11)","v":""},{"$nulls":4},{"$f":"IF(_Tilt_mm=\"\",\"\",\"Verkippung des Plattenrandes:\")","v":""},{"$f":"IF(_Tilt_mm=\"\",\"\",_Tilt_mm)","v":""}]
[null,null,"Ausrüstung:","Anix GmbH, indukt. Wegsensor 15mm, elektron. Kraftsensor 100kN",{"$nulls":4},{"$f":"IF(_Lat=\"\",\"\",\"Lat.:\")","v":""}]
[{"$nulls":8},{"$f":"IF(_Lon=\"\",\"\",\"Lon.:\")","v":""}]
[{"$nulls":6},{"$f":"IF(_cZone=\"\",\"\",\"UTM:\")","v":""}]
[null,"Nr.","Spannung\nso [MN/m²]","Setzung \ns [mm]","Zeit\nt [s]"]
[null,"Erstbelastung"]
[null,null,{"v":0,"d":"0.0000"},0.01]
[null,"Entlastung"]
[null,null,{"v":1E-3,"d":"0.0010"},0.02]
[null,"Zweitbelastung"]
[null,null,{"v":2E-3,"d":"0.0020"},0.03]
[null,"2.Entlastung"]
[null,null,{"v":0.003,"d":"0.0030"},0.04]
[null,"Drittbelastung"]
[null,null,{"v":0.004,"d":"0.0040"},0.05]
{"$rows_empty":19}
[{"$nulls":6},"Ergebnisse","Erstbelastung","Zweitbelastung","Drittbelastung"]
[{"$nulls":6},"somax [MN/m²]",{"$f":"S128","v":{"v":0,"d":"0.000"}},{"$f":"IF(S130<>0,S130,\"\")","v":""},{"$f":"IF(S132<>0,S132,\"\")","v":""}]
[{"$nulls":6},"E [MN/m²]",{"$f":"T128","v":{"v":0,"d":"0.0"}},{"$f":"IF(T130<>0,T130,\"\")","v":""},{"$f":"IF(T132<>0,T132,\"\")","v":""}]
[{"$nulls":6},"E2/E1:",{"$f":"IF(OR(H47=0,I47=\"\"),\"\",I47/H47)","v":""}]
[]
[]
[{"$nulls":6},{"$f":"IF(H51<>\"\",\"Bettungsmodul:\",\"\")","v":""},null,{"$f":"IF(H51<>\"\",\"MN/m³\",\"\")","v":""}]
{"$rows_empty":49}
[{"$nulls":13},"0: ME"]
[]
[]
[]
[]
[{"$nulls":13},"1: ME"]
[]
[]
[]
[]
[{"$nulls":13},"2: ME"]
[]
[]
[]
[]
[{"$nulls":13},"3: ME"]
[]
[]
[]
[]
[{"$nulls":13},"4: ME"]
[]
[]
[]
[]
[{"$nulls":14},"Parameter"]
[{"$nulls":14},"a0","a1","a2","Index","smax","Ev","k1","k2","a"]
{"$rows_empty":7}
[{"$nulls":14},"Lat"]
[{"$nulls":14},"Lon"]
[{"$nulls":14},"Plattendurchmesser:"]
[{"$nulls":14},"Hebelverhältnis:"]
[{"$nulls":14},"Datum:"]
[{"$nulls":14},"Datum (Ende):"]
[{"$nulls":14},"Gerätenummer:"]
[{"$nulls":14},"Datensatznummer:"]
[{"$nulls":14},"Kartennummer:"]
[{"$nulls":14},"Stepwidth:"]
[{"$nulls":14},"Tilt:"]
[{"$nulls":14},"Mejne vrednosti"]
[{"$nulls":14},"Ev2","Ev2/Ev1"]
[{"$nulls":14},45,2.2]
[{"$nulls":14},80,2.3]
[{"$nulls":14},100,2.5]
[{"$nulls":14},120,2.6]
[{"$nulls":14},150]
[{"$nulls":14},180]
[]
[{"$nulls":14},"Krivulje"]
[{"$nulls":14},"Sigma",null,"Erstbelastung",null,"Entlastung",null,"Zweitbelastung",null,"2. Entlastung",null,"Drittbelastung"]
[{"$nulls":14},0,{"$f":"O157","v":0},{"$f":"IF(0=$S$128,P157,$O$128+$P$128*P157+$Q$128*P157*P157)","v":0},{"$f":"IF(OR($S$128=0,O157<=$S$129),O157,$S$129)","v":0},{"$f":"IF(0=$S$128,R157*1.1,$O$129+$P$129*R157+$Q$129*R157*R157)","v":0},{"$f":"IF(OR($S$128=0,O157<=$S$130),O157,$S$130)","v":0},{"$f":"IF(0=$S$128,T157*1.2,$O$130+$P$130*T157+$Q$130*T157*T157)","v":0},{"$f":"IF(OR($S$128=0,O157<=$S$145),O157,$S$131)","v":0},{"$f":"IF(0=$S$128,V157*1.3,$O$131+$P$131*V157+$Q$131*V157*V157)","v":0},{"$f":"IF(OR($S$128=0,O157<=$S$132),O157,$S$132)","v":0},{"$f":"IF(0=$S$128,X157*1.4,$O$132+$P$132*X157+$Q$132*X157*X157)","v":0}]
[{"$nulls":14},0.02,{"$f":"O158","v":0.02},{"$f":"IF(0=$S$128,P158,$O$128+$P$128*P158+$Q$128*P158*P158)","v":0.02},{"$f":"IF(OR($S$128=0,O158<=$S$129),O158,$S$129)","v":0.02},{"$f":"IF(0=$S$128,R158*1.1,$O$129+$P$129*R158+$Q$129*R158*R158)","v":0.022000000000000002},{"$f":"IF(OR($S$128=0,O158<=$S$130),O158,$S$130)","v":0.02},{"$f":"IF(0=$S$128,T158*1.2,$O$130+$P$130*T158+$Q$130*T158*T158)","v":0.024},{"$f":"IF(OR($S$128=0,O158<=$S$145),O158,$S$131)","v":0.02},{"$f":"IF(0=$S$128,V158*1.3,$O$131+$P$131*V158+$Q$131*V158*V158)","v":0.026000000000000002},{"$f":"IF(OR($S$128=0,O158<=$S$132),O158,$S$132)","v":0.02},{"$f":"IF(0=$S$128,X158*1.4,$O$132+$P$132*X158+$Q$132*X158*X158)","v":0.027999999999999997}]
[{"$nulls":14},0.04,{"$f":"O159","v":0.04},{"$f":"IF(0=$S$128,P159,$O$128+$P$128*P159+$Q$128*P159*P159)","v":0.04},{"$f":"IF(OR($S$128=0,O159<=$S$129),O159,$S$129)","v":0.04},{"$f":"IF(0=$S$128,R159*1.1,$O$129+$P$129*R159+$Q$129*R159*R159)","v":0.044000000000000004},{"$f":"IF(OR($S$128=0,O159<=$S$130),O159,$S$130)","v":0.04},{"$f":"IF(0=$S$128,T159*1.2,$O$130+$P$130*T159+$Q$130*T159*T159)","v":0.048},{"$f":"IF(OR($S$128=0,O159<=$S$145),O159,$S$131)","v":0.04},{"$f":"IF(0=$S$128,V159*1.3,$O$131+$P$131*V159+$Q$131*V159*V159)","v":0.052000000000000005},{"$f":"IF(OR($S$128=0,O159<=$S$132),O159,$S$132)","v":0.04},{"$f":"IF(0=$S$128,X159*1.4,$O$132+$P$132*X159+$Q$132*X159*X159)","v":0.055999999999999994}]
[{"$nulls":14},0.06,{"$f":"IF(O160<=$S$128,O160,$S$128)","v":0},{"$f":"$O$128+$P$128*P160+$Q$128*P160*P160","v":0},{"$f":"IF(O160<=$S$129,O160,$S$129)","v":0},{"$f":"$O$129+$P$129*R160+$Q$129*R160*R160","v":0},{"$f":"IF(O160<=$S$130,O160,$S$130)","v":0},{"$f":"$O$130+$P$130*T160+$Q$130*T160*T160","v":0},{"$f":"IF(O160<=$S$145,O160,$S$131)","v":0},{"$f":"$O$131+$P$131*V160+$Q$131*V160*V160","v":0},{"$f":"IF(O160<=$S$132,O160,$S$132)","v":0},{"$f":"$O$132+$P$132*X160+$Q$132*X160*X160","v":0}]
[{"$nulls":14},0.08,0,0,0,0,0,0,0,0,0,0]
[{"$nulls":14},0.1,0,0,0,0,0,0,0,0,0,0]
[{"$nulls":14},0.12,0,0,0,0,0,0,0,0,0,0]
[{"$nulls":14},0.14,0,0,0,0,0,0,0,0,0,0]
[{"$nulls":14},0.16,0,0,0,0,0,0,0,0,0,0]
[{"$nulls":14},0.18,0,0,0,0,0,0,0,0,0,0]
[{"$nulls":14},0.2,0,0,0,0,0,0,0,0,0,0]
[{"$nulls":14},0.22,0,0,0,0,0,0,0,0,0,0]
[{"$nulls":14},0.24,0,0,0,0,0,0,0,0,0,0]
[{"$nulls":14},0.26,0,0,0,0,0,0,0,0,0,0]
[{"$nulls":14},0.28,0,0,0,0,0,0,0,0,0,0]
[{"$nulls":14},0.3,0,0,0,0,0,0,0,0,0,0]
[{"$nulls":14},0.32,0,0,0,0,0,0,0,0,0,0]
[{"$nulls":14},0.34,0,0,0,0,0,0,0,0,0,0]
[{"$nulls":14},0.36,0,0,0,0,0,0,0,0,0,0]
[{"$nulls":14},0.38,0,0,0,0,0,0,0,0,0,0]
[{"$nulls":14},0.4,0,0,0,0,0,0,0,0,0,0]
[{"$nulls":14},0.42,0,0,0,0,0,0,0,0,0,0]
[{"$nulls":14},0.44,0,0,0,0,0,0,0,0,0,0]
[{"$nulls":14},0.46,0,0,0,0,0,0,0,0,0,0]
[{"$nulls":14},0.48,0,0,0,0,0,0,0,0,0,0]
[{"$nulls":14},0.5,0,0,0,0,0,0,0,0,0,0]
[{"$nulls":14},0.52,0,0,0,0,0,0,0,0,0,0]
[{"$nulls":14},0.54,0,0,0,0,0,0,0,0,0,0]
[{"$nulls":14},0.56,0,0,0,0,0,0,0,0,0,0]
[{"$nulls":14},0.58,0,0,0,0,0,0,0,0,0,0]
[{"$nulls":14},0.6,0,0,0,0,0,0,0,0,0,0]

{"sheet":"AX01-SVV (0)","index":9,"n_rows":153,"n_cols":24,"rows_kept":153,"merged":[[2,1,2,9],[15,1,15,2],[17,1,17,2],[34,6,35,6],[34,7,35,7],[34,8,35,8],[36,6,37,6],[36,7,37,7],[36,8,37,8],[38,6,39,6],[38,7,39,7],[38,8,39,8],[41,6,41,8]]}
[]
[]
[null,"Plate load test SVV 15.328"]
[null,null,"Institute:",{"$f":"IF('Statistik stat'!D1=\"\",\"\",'Statistik stat'!D1)","v":""},{"$nulls":3},"Record number:",{"$f":"_Datensatznummer","v":0}]
[null,null,"Client:",{"$f":"IF('Statistik stat'!D5=\"\",\"\",'Statistik stat'!D5)","v":""},{"$nulls":3},"Card number.:",{"$f":"_Kartennummer","v":0}]
[null,null,"Project:",{"$f":"IF('Statistik stat'!D6=\"\",\"\",'Statistik stat'!D6)","v":""},{"$nulls":3},"Start of test:",{"$f":"_MessDatum","v":"00:00:00"}]
[null,null,"Test depth:",{"$f":"IF('Statistik stat'!D7=\"\",\"\",'Statistik stat'!D7)","v":""},{"$nulls":3},"End of test:",{"$f":"_MessDatum1","v":"00:00:00"}]
[null,null,"Layer:",{"$f":"IF('Statistik stat'!D8=\"\",\"\",'Statistik stat'!D8)","v":""},{"$nulls":3},"Device number:",{"$f":"_Geraetenummer","v":0}]
[null,null,"Remarks:",{"$f":"IF('Statistik stat'!D9=\"\",\"\",'Statistik stat'!D9)","v":""},{"$nulls":3},"Ø-Plate:",{"$f":"_PlattenDurchmesser","v":0}]
[null,null,"Weather/Temp.:",{"$f":"IF('Statistik stat'!D10=\"\",\"\",'Statistik stat'!D10)","v":""},{"$nulls":3},"Lever ratio:",{"$f":"_Hebelarm","v":{"v":0,"d":"1:0.00"}}]
[null,null,"Operator:",{"$f":"IF('Statistik stat'!D11=\"\",\"\",'Statistik stat'!D11)","v":""},{"$nulls":3},{"$f":"IF(_Tilt_mm=\"\",\"\",\"max plate tilt:\")","v":""},{"$f":"IF(_Tilt_mm=\"\",\"\",_Tilt_mm)","v":""}]
[null,null,"Equipment:","Ax01a, Anix GmbH",{"$nulls":3},{"$f":"IF(_cLat=\"\",\"\",\"Lat.:\")","v":""}]
[{"$nulls":7},{"$f":"IF(_cLon=\"\",\"\",\"Lon.:\")","v":""}]
[{"$nulls":5},{"$f":"IF(_cZone=\"\",\"\",\"UTM:\")","v":""}]
[null,"Nr.","load\nso [MN/m²]","deflection \ns [mm]","time \nt [s]"]
[null,"first loading"]
[]
[null,{"$f":"IF(_MessTab2=\"\",\"\",\"second loading\")","v":""}]
{"$rows_empty":16}
[{"$nulls":6},"E1:",{"$f":"IF(S96<>0,S96,\"\")","v":""},"MN/m²"]
[]
[{"$nulls":6},"E2:",{"$f":"IF(S98<>0,S98,\"\")","v":""},"MN/m²"]
[]
[{"$nulls":6},"E2/E1:",{"$f":"IF(S96<>0,S98/S96,\"\")","v":""}]
[]
[]
[{"$nulls":6},"Alternate E2 results"]
[{"$nulls":6},"load interval (kN/m²)","E2  (MN/m²)","E2/E1"]
[{"$nulls":6},{"$f":"IF(AND(N78<>\"\",N77<>\"\"),CONCATENATE(N77/10,\"-\",P77/10),\"\")","v":""},{"$f":"IF(AND(O77<>\"\",O78<>\"\"),O77,\"\")","v":""},{"$f":"IF(H44<>\"\",H44/$H$35,\"\")","v":""}]
[{"$nulls":6},{"$f":"IF(AND(N79<>\"\",N78<>\"\"),CONCATENATE(N78/10,\"-\",P78/10),\"\")","v":""},{"$f":"IF(AND(O78<>\"\",O79<>\"\"),O78,\"\")","v":""},{"$f":"IF(H45<>\"\",H45/$H$35,\"\")","v":""}]
[{"$nulls":6},"",{"$f":"IF(AND(O79<>\"\",O80<>\"\"),O79,\"\")","v":""},""]
{"$rows_empty":20}
[{"$nulls":12},"0: ME"]
[]
[]
[]
[]
[{"$nulls":12},"1: ME"]
[]
[]
[]
[]
[{"$nulls":12},"2: ME"]
[]
[]
[]
[]
[{"$nulls":12},"3: ME"]
[]
[]
[]
[]
[{"$nulls":12},"4: ME"]
[]
[]
[]
[]
[]
[]
[{"$nulls":13},"Parameter"]
[{"$nulls":13},"a0","a1","a2","Index","smax","Ev","k1","k2","a"]
[]
[]
[]
[]
[]
[{"$nulls":13},"Lat:"]
[{"$nulls":13},"Lon:"]
[{"$nulls":13},"Plattendurchmesser:"]
[{"$nulls":13},"Hebelverhältnis:"]
[{"$nulls":13},"Datum:"]
[{"$nulls":13},"Datum (Ende):"]
[{"$nulls":13},"Gerätenummer:"]
[{"$nulls":13},"Datensatznummer:"]
[{"$nulls":13},"Kartennummer:"]
[{"$nulls":13},"Stepwidth:"]
[{"$nulls":13},"Kippweg Plattenrand:"]
[{"$nulls":13},"Grenzwerte"]
[{"$nulls":13},"Ev2","Ev2/Ev1"]
[{"$nulls":13},45,2.2]
[{"$nulls":13},80,2.3]
[{"$nulls":13},100,2.5]
[{"$nulls":13},120,2.6]
[{"$nulls":13},150]
[{"$nulls":13},180]
[]
[{"$nulls":13},"Kurven"]
[{"$nulls":13},"Sigma",null,"_Erstbelastung_",null,"_Entlastung_",null,"_Zweitbelastung_",null,"_Entlastung_",null,"_Drittbelastung_"]
[{"$nulls":13},0,{"$f":"IF(N123<=$R$96,N123,$R$96)","v":0},{"$f":"$N$96+$O$96*O123+$P$96*O123*O123","v":0},{"$f":"IF(N123<=$R$97,N123,$R$97)","v":0},{"$f":"$N$97+$O$97*Q123+$P$97*Q123*Q123","v":0},{"$f":"IF(N123<=$R$98,N123,$R$98)","v":0},{"$f":"$N$98+$O$98*S123+$P$98*S123*S123","v":0},{"$f":"IF(N123<=$R$99,N123,$R$99)","v":0},{"$f":"$N$99+$O$99*U123+$P$99*U123*U123","v":0},{"$f":"IF(N123<=$R$100,N123,$R$100)","v":0},{"$f":"$N$100+$O$100*W123+$P$100*W123*W123","v":0}]
[{"$nulls":13},0.02,{"$f":"IF(N124<=$R$96,N124,$R$96)","v":0},{"$f":"$N$96+$O$96*O124+$P$96*O124*O124","v":0},{"$f":"IF(N124<=$R$97,N124,$R$97)","v":0},{"$f":"$N$97+$O$97*Q124+$P$97*Q124*Q124","v":0},{"$f":"IF(N124<=$R$98,N124,$R$98)","v":0},{"$f":"$N$98+$O$98*S124+$P$98*S124*S124","v":0},{"$f":"IF(N124<=$R$99,N124,$R$99)","v":0},{"$f":"$N$99+$O$99*U124+$P$99*U124*U124","v":0},{"$f":"IF(N124<=$R$100,N124,$R$100)","v":0},{"$f":"$N$100+$O$100*W124+$P$100*W124*W124","v":0}]
[{"$nulls":13},0.04,0,0,0,0,0,0,0,0,0,0]
[{"$nulls":13},0.06,0,0,0,0,0,0,0,0,0,0]
[{"$nulls":13},0.08,0,0,0,0,0,0,0,0,0,0]
[{"$nulls":13},0.1,0,0,0,0,0,0,0,0,0,0]
[{"$nulls":13},0.12,0,0,0,0,0,0,0,0,0,0]
[{"$nulls":13},0.14,0,0,0,0,0,0,0,0,0,0]
[{"$nulls":13},0.16,0,0,0,0,0,0,0,0,0,0]
[{"$nulls":13},0.18,0,0,0,0,0,0,0,0,0,0]
[{"$nulls":13},0.2,0,0,0,0,0,0,0,0,0,0]
[{"$nulls":13},0.22,0,0,0,0,0,0,0,0,0,0]
[{"$nulls":13},0.24,0,0,0,0,0,0,0,0,0,0]
[{"$nulls":13},0.26,0,0,0,0,0,0,0,0,0,0]
[{"$nulls":13},0.28,0,0,0,0,0,0,0,0,0,0]
[{"$nulls":13},0.3,0,0,0,0,0,0,0,0,0,0]
[{"$nulls":13},0.32,0,0,0,0,0,0,0,0,0,0]
[{"$nulls":13},0.34,0,0,0,0,0,0,0,0,0,0]
[{"$nulls":13},0.36,0,0,0,0,0,0,0,0,0,0]
[{"$nulls":13},0.38,0,0,0,0,0,0,0,0,0,0]
[{"$nulls":13},0.4,0,0,0,0,0,0,0,0,0,0]
[{"$nulls":13},0.42,0,0,0,0,0,0,0,0,0,0]
[{"$nulls":13},0.44,0,0,0,0,0,0,0,0,0,0]
[{"$nulls":13},0.46,0,0,0,0,0,0,0,0,0,0]
[{"$nulls":13},0.48,0,0,0,0,0,0,0,0,0,0]
[{"$nulls":13},0.5,0,0,0,0,0,0,0,0,0,0]
[{"$nulls":13},0.52,0,0,0,0,0,0,0,0,0,0]
[{"$nulls":13},0.54,0,0,0,0,0,0,0,0,0,0]
[{"$nulls":13},0.56,0,0,0,0,0,0,0,0,0,0]
[{"$nulls":13},0.58,0,0,0,0,0,0,0,0,0,0]
[{"$nulls":13},0.6,0,0,0,0,0,0,0,0,0,0]

{"sheet":"AX01 (0)","index":10,"n_rows":260,"n_cols":24,"rows_kept":260,"merged":[[15,1,15,2],[17,1,17,2],[19,1,19,2]]}
[]
[]
[null,{"$f":"CONCATENATE(\"Plattendruckversuch nach DIN 18134-\",TEXT(J9,\"0\"))","v":"Plattendruckversuch nach DIN 18134-0"}]
[null,null,"Prüfinstitut:",{"$f":"IF('Statistik stat'!D1=\"\",\"\",'Statistik stat'!D1)","v":""},{"$nulls":4},"Datensatznummer:",{"$f":"_Datensatznummer","v":0}]
[null,null,"Auftraggeber:",{"$f":"IF('Statistik stat'!D5=\"\",\"\",'Statistik stat'!D5)","v":""},{"$nulls":4},"Kartennummer:",{"$f":"_Kartennummer","v":0}]
[null,null,"Bauvorhaben:",{"$f":"IF('Statistik stat'!D6=\"\",\"\",'Statistik stat'!D6)","v":""},{"$nulls":4},"Versuchsbeginn:",{"$f":"_MessDatum","v":"00:00:00"}]
[null,null,"Prüftiefe:",{"$f":"IF('Statistik stat'!D7=\"\",\"\",'Statistik stat'!D7)","v":""},{"$nulls":4},"Versuchsende:",{"$f":"_MessDatum1","v":"00:00:00"}]
[null,null,"Schicht:",{"$f":"IF('Statistik stat'!D8=\"\",\"\",'Statistik stat'!D8)","v":""},{"$nulls":4},"Gerätenummer:",{"$f":"_Geraetenummer","v":0}]
[null,null,"Bemerkungen:",{"$f":"IF('Statistik stat'!D9=\"\",\"\",'Statistik stat'!D9)","v":""},{"$nulls":4},"Plattendurchmesser:",{"$f":"_PlattenDurchmesser","v":0}]
[null,null,"Witterung/Temp.:",{"$f":"IF('Statistik stat'!D10=\"\",\"\",'Statistik stat'!D10)","v":""},{"$nulls":4},"Hebelverhältnis:",{"$f":"_Hebelarm","v":{"v":0,"d":"1:0.00"}}]
[null,null,"Bearbeiter:",{"$f":"IF('Statistik stat'!D11=\"\",\"\",'Statistik stat'!D11)","v":""},{"$nulls":4},{"$f":"IF(_Tilt_mm=\"\",\"\",\"Kippweg Plattenrand:\")","v":""},{"$f":"IF(_Tilt_mm=\"\",\"\",_Tilt_mm)","v":""}]
[null,null,"Ausrüstung:","Hersteller Anix GmbH, induktiver Wegaufnehmer 15mm, elektr. Kraftsensor 100kN",{"$nulls":4},{"$f":"IF(_cLat=\"\",\"\",\"Lat.:\")","v":""}]
[{"$nulls":8},{"$f":"IF(_cLon=\"\",\"\",\"Lon.:\")","v":""}]
[{"$nulls":6},{"$f":"IF(_cZone=\"\",\"\",\"UTM:\")","v":""}]
[null,"Nr.","Spannung\nso [MN/m²]","Setzung \ns [mm]"]
[null,"Erstbelastung"]
[null,null,{"v":0,"d":"0.0000"},0.01]
[null,"Entlastung"]
[null,null,{"v":0,"d":"0.0000"},0.02]
[null,"Zweitbelastung"]
[null,null,{"v":0,"d":"0.0000"},0.03]
[null,"2.Entlastung"]
[null,null,{"v":0,"d":"0.0000"},0.04]
[null,"Drittbelastung"]
[null,null,{"v":0,"d":"0.0000"},0.05]
{"$rows_empty":14}
[{"$nulls":6},"Ergebnisse"]
[{"$nulls":7},"Ist-Werte","Sollwerte","Bewertung"]
[{"$nulls":6},"s1max [MN/m²]",{"$f":"R82","v":{"v":0,"d":"0.0000"}}]
[{"$nulls":6},"Ev1 [MN/m²]",{"$f":"S82","v":{"v":0,"d":"0.00"}}]
[{"$nulls":6},"Ev2 [MN/m²]",{"$f":"S84","v":{"v":0,"d":"0.00"}},{"$f":"'Statistik stat'!D12","v":45},{"$f":"IF(H44=\"\",\"\",IF(H44>=I44,\"OK\",\"ungültig.\"))","v":"ungültig."}]
[{"$nulls":6},"Ev2/Ev1:",{"$f":"IF(H43=0,\"\",H44/H43)","v":""},{"$f":"'Statistik stat'!D13","v":2.2},{"$f":"IF(H45=\"\",\"\",IF(H45<=I45,\"OK\",\"ungültig.\"))","v":""}]
[{"$nulls":6},"Ev3 [MN/m²]",{"$f":"IF(S86<>\"\",S86,\"\")","v":""}]
[{"$nulls":6},"Ev3/Ev1:",{"$f":"IF(OR(H43=0,H46=\"\"),\"\",H46/H43)","v":""}]
[{"$nulls":6},{"$f":"IF(T79<>\"\",\"Bettungsmodul:\",\"\")","v":""},{"$f":"IF(T79<>\"\",T79,\"\")","v":""},{"$f":"IF(T79<>\"\",\"MN/m³\",\"\")","v":""}]
[{"$nulls":6},"remarks:"]
{"$rows_empty":28}
[{"$nulls":13},"sks","sks korr.","p","q","p/2","s1,25","k"]
[{"$nulls":13},{"v":1.25,"d":"1.25 mm"},{"$f":"IF(O82=\"\",\"\",_Parameter0+N79)","v":""},{"$f":"IF(OR(P82=0,O82=\"\"),\"\",O82/P82)","v":""},{"$f":"IF(OR(P82=0,P82=\"\"),\"\",(_Parameter0-O79)/P82)","v":""},{"$f":"IF(P79=\"\",\"\",P79/2)","v":""},{"$f":"IF(P82=0,N79/O82,IF(R79=\"\",\"\",IF(P82<0,-R79-SQRT(R79^2-Q79),-R79+SQRT(R79^2-Q79))))","v":{"$error":"#DIV/0!"}},{"$f":"IF(ISNUMBER(S79),IF(_PlattenDurchmesser<>300,IF(S79=\"\",\"\",1000*S79/(N79*762/_PlattenDurchmesser)),IF(S79=\"\",\"\",1000*S79/N79/2.22)),\"\")","v":""}]
[{"$nulls":13},"Parameter"]
[{"$nulls":13},"a0","a1","a2","Index","smax","Ev","k1","k2","a"]
[]
[]
[]
[]
[{"$nulls":13},"Sprache:",0]
[{"$nulls":13},"Lat:"]
[{"$nulls":13},"Lon:"]
[{"$nulls":13},"Plattendurchmesser:"]
[{"$nulls":13},"Hebelverhältnis:"]
[{"$nulls":13},"Datum:"]
[{"$nulls":13},"Datum (Ende):"]
[{"$nulls":13},"Gerätenummer:"]
[{"$nulls":13},"Datensatznummer:"]
[{"$nulls":13},"Kartennummer:"]
[{"$nulls":13},"Stepwidth:"]
[{"$nulls":13},"Kippweg Plattenrand:"]
[{"$nulls":13},"Grenzwerte"]
[{"$nulls":13},"Ev2","Ev2/Ev1"]
[{"$nulls":13},45,2.2]
[{"$nulls":13},80,2.3]
[{"$nulls":13},100,2.5]
[{"$nulls":13},120,2.6]
[{"$nulls":13},150]
[{"$nulls":13},180]
[]
[{"$nulls":13},"Krivulje"]
[{"$nulls":13},"Sigma",null,"Erstbelastung",null,"Entlastung",null,"Zweitbelastung",null,"2.Entlastung",null,"Drittbelastung"]
[{"$nulls":13},0,{"$f":"IF(OR($R$82=0,N109<=$R$82),N109,$R$82)","v":0},{"$f":"IF(0=$R$82,O109,$N$82+$O$82*O109+$P$82*O109*O109)","v":0},{"$f":"IF(OR($R$82=0,N109<=$R$83),N109,$R$83)","v":0},{"$f":"IF(0=$R$82,1.1*Q109,$N$83+$O$83*Q109+$P$83*Q109*Q109)","v":0},{"$f":"IF(OR($R$82=0,N109<=$R$84),N109,$R$84)","v":0},{"$f":"IF(0=$R$82,1.2*S109,$N$84+$O$84*S109+$P$84*S109*S109)","v":0},{"$f":"IF(OR($R$82=0,N109<=$R$85),N109,$R$85)","v":0},{"$f":"IF(0=$R$82,1.3*U109,$N$85+$O$85*U109+$P$85*U109*U109)","v":0},{"$f":"IF(OR($R$82=0,N109<=$R$86),N109,$R$86)","v":0},{"$f":"IF(0=$R$82,1.4*W109,$N$87+$O$87*W109+$P$86*W109*W109)","v":0}]
[{"$nulls":13},0.02,{"$f":"IF(OR($R$82=0,N110<=$R$82),N110,$R$82)","v":0.02},{"$f":"IF(0=$R$82,O110,$N$82+$O$82*O110+$P$82*O110*O110)","v":0.02},{"$f":"IF(OR($R$82=0,N110<=$R$83),N110,$R$83)","v":0.02},{"$f":"IF(0=$R$82,1.1*Q110,$N$83+$O$83*Q110+$P$83*Q110*Q110)","v":0.022000000000000002},{"$f":"IF(OR($R$82=0,N110<=$R$84),N110,$R$84)","v":0.02},{"$f":"IF(0=$R$82,1.2*S110,$N$84+$O$84*S110+$P$84*S110*S110)","v":0.024},{"$f":"IF(OR($R$82=0,N110<=$R$85),N110,$R$85)","v":0.02},{"$f":"IF(0=$R$82,1.3*U110,$N$85+$O$85*U110+$P$85*U110*U110)","v":0.026000000000000002},{"$f":"IF(OR($R$82=0,N110<=$R$86),N110,$R$86)","v":0.02},{"$f":"IF(0=$R$82,1.4*W110,$N$87+$O$87*W110+$P$86*W110*W110)","v":0.027999999999999997}]
[{"$nulls":13},0.04,{"$f":"IF(OR($R$82=0,N111<=$R$82),N111,$R$82)","v":0.04},{"$f":"IF(0=$R$82,O111,$N$82+$O$82*O111+$P$82*O111*O111)","v":0.04},{"$f":"IF(OR($R$82=0,N111<=$R$83),N111,$R$83)","v":0.04},{"$f":"IF(0=$R$82,1.1*Q111,$N$83+$O$83*Q111+$P$83*Q111*Q111)","v":0.044000000000000004},{"$f":"IF(OR($R$82=0,N111<=$R$84),N111,$R$84)","v":0.04},{"$f":"IF(0=$R$82,1.2*S111,$N$84+$O$84*S111+$P$84*S111*S111)","v":0.048},{"$f":"IF(OR($R$82=0,N111<=$R$85),N111,$R$85)","v":0.04},{"$f":"IF(0=$R$82,1.3*U111,$N$85+$O$85*U111+$P$85*U111*U111)","v":0.052000000000000005},{"$f":"IF(OR($R$82=0,N111<=$R$86),N111,$R$86)","v":0.04},{"$f":"IF(0=$R$82,1.4*W111,$N$87+$O$87*W111+$P$86*W111*W111)","v":0.055999999999999994}]
[{"$nulls":13},0.06,{"$f":"IF(N112<=$R$82,N112,$R$82)","v":0},{"$f":"$N$82+$O$82*O112+$P$82*O112*O112","v":0},{"$f":"IF(N112<=$R$83,N112,$R$83)","v":0},{"$f":"$N$83+$O$83*Q112+$P$83*Q112*Q112","v":0},{"$f":"IF(N112<=$R$84,N112,$R$84)","v":0},{"$f":"$N$84+$O$84*S112+$P$84*S112*S112","v":0},{"$f":"IF(N112<=$R$85,N112,$R$85)","v":0},{"$f":"$N$85+$O$85*U112+$P$85*U112*U112","v":0},{"$f":"IF(N112<=$R$86,N112,$R$86)","v":0},{"$f":"$N$87+$O$87*W112+$P$86*W112*W112","v":{"$error":"#VALUE!"}}]
[{"$nulls":13},0.08,0,0,0,0,0,0,0,0,0,{"$error":"#VALUE!"}]
[{"$nulls":13},0.1,{"$f":"IF(N114<=$R$82,N114,$R$82)","v":0},{"$f":"$N$82+$O$82*O114+$P$82*O114*O114","v":0},{"$f":"IF(N114<=$R$83,N114,$R$83)","v":0},{"$f":"$N$83+$O$83*Q114+$P$83*Q114*Q114","v":0},{"$f":"IF(N114<=$R$84,N114,$R$84)","v":0},{"$f":"$N$84+$O$84*S114+$P$84*S114*S114","v":0},{"$f":"IF(N114<=$R$85,N114,$R$85)","v":0},{"$f":"$N$85+$O$85*U114+$P$85*U114*U114","v":0},{"$f":"IF(N114<=$R$86,N114,$R$86)","v":0},{"$f":"$N$87+$O$87*W114+$P$86*W114*W114","v":{"$error":"#VALUE!"}}]
[{"$nulls":13},0.12,0,0,0,0,0,0,0,0,0,{"$error":"#VALUE!"}]
[{"$nulls":13},0.14,0,0,0,0,0,0,0,0,0,{"$error":"#VALUE!"}]
[{"$nulls":13},0.16,0,0,0,0,0,0,0,0,0,{"$error":"#VALUE!"}]
[{"$nulls":13},0.18,0,0,0,0,0,0,0,0,0,{"$error":"#VALUE!"}]
[{"$nulls":13},0.2,0,0,0,0,0,0,0,0,0,{"$error":"#VALUE!"}]
[{"$nulls":13},0.22,0,0,0,0,0,0,0,0,0,{"$error":"#VALUE!"}]
[{"$nulls":13},0.24,0,0,0,0,0,0,0,0,0,{"$error":"#VALUE!"}]
[{"$nulls":13},0.26,0,0,0,0,0,0,0,0,0,{"$error":"#VALUE!"}]
[{"$nulls":13},0.28,0,0,0,0,0,0,0,0,0,{"$error":"#VALUE!"}]
[{"$nulls":13},0.3,0,0,0,0,0,0,0,0,0,{"$error":"#VALUE!"}]
[{"$nulls":13},0.32,0,0,0,0,0,0,0,0,0,{"$error":"#VALUE!"}]
[{"$nulls":13},0.34,0,0,0,0,0,0,0,0,0,{"$error":"#VALUE!"}]
[{"$nulls":13},0.36,0,0,0,0,0,0,0,0,0,{"$error":"#VALUE!"}]
[{"$nulls":13},0.38,0,0,0,0,0,0,0,0,0,{"$error":"#VALUE!"}]
[{"$nulls":13},0.4,0,0,0,0,0,0,0,0,0,{"$error":"#VALUE!"}]
[{"$nulls":13},0.42,0,0,0,0,0,0,0,0,0,{"$error":"#VALUE!"}]
[{"$nulls":13},0.44,0,0,0,0,0,0,0,0,0,{"$error":"#VALUE!"}]
[{"$nulls":13},0.46,0,0,0,0,0,0,0,0,0,{"$error":"#VALUE!"}]
[{"$nulls":13},0.48,0,0,0,0,0,0,0,0,0,{"$error":"#VALUE!"}]
[{"$nulls":13},0.5,0,0,0,0,0,0,0,0,0,{"$error":"#VALUE!"}]
[{"$nulls":13},0.52,0,0,0,0,0,0,0,0,0,{"$error":"#VALUE!"}]
[{"$nulls":13},0.54,0,0,0,0,0,0,0,0,0,{"$error":"#VALUE!"}]
[{"$nulls":13},0.56,0,0,0,0,0,0,0,0,0,{"$error":"#VALUE!"}]
[{"$nulls":13},0.58,0,0,0,0,0,0,0,0,0,{"$error":"#VALUE!"}]
[{"$nulls":13},0.6,0,0,0,0,0,0,0,0,0,{"$error":"#VALUE!"}]
[{"$nulls":13},0.62,0,0,0,0,0,0,0,0,0,{"$error":"#VALUE!"}]
[{"$nulls":13},0.64,0,0,0,0,0,0,0,0,0,{"$error":"#VALUE!"}]
[{"$nulls":13},0.66,0,0,0,0,0,0,0,0,0,{"$error":"#VALUE!"}]
[{"$nulls":13},0.68,0,0,0,0,0,0,0,0,0,{"$error":"#VALUE!"}]
[{"$nulls":13},0.7,0,0,0,0,0,0,0,0,0,{"$error":"#VALUE!"}]
[{"$nulls":13},0.72,0,0,0,0,0,0,0,0,0,{"$error":"#VALUE!"}]
[{"$nulls":13},0.74,0,0,0,0,0,0,0,0,0,{"$error":"#VALUE!"}]
[{"$nulls":13},0.76,0,0,0,0,0,0,0,0,0,{"$error":"#VALUE!"}]
[{"$nulls":13},0.78,0,0,0,0,0,0,0,0,0,{"$error":"#VALUE!"}]
[{"$nulls":13},0.8,0,0,0,0,0,0,0,0,0,{"$error":"#VALUE!"}]
[{"$nulls":13},0.82,0,0,0,0,0,0,0,0,0,{"$error":"#VALUE!"}]
[{"$nulls":13},0.84,0,0,0,0,0,0,0,0,0,{"$error":"#VALUE!"}]
[{"$nulls":13},0.86,0,0,0,0,0,0,0,0,0,{"$error":"#VALUE!"}]
[{"$nulls":13},0.88,0,0,0,0,0,0,0,0,0,{"$error":"#VALUE!"}]
[{"$nulls":13},0.9,0,0,0,0,0,0,0,0,0,{"$error":"#VALUE!"}]
[{"$nulls":13},0.92,0,0,0,0,0,0,0,0,0,{"$error":"#VALUE!"}]
[{"$nulls":13},0.94,0,0,0,0,0,0,0,0,0,{"$error":"#VALUE!"}]
[{"$nulls":13},0.96,0,0,0,0,0,0,0,0,0,{"$error":"#VALUE!"}]
[{"$nulls":13},0.98,0,0,0,0,0,0,0,0,0,{"$error":"#VALUE!"}]
[{"$nulls":13},1,{"$f":"IF(N159<=$R$82,N159,$R$82)","v":0},{"$f":"$N$82+$O$82*O159+$P$82*O159*O159","v":0},{"$f":"IF(N159<=$R$83,N159,$R$83)","v":0},{"$f":"$N$83+$O$83*Q159+$P$83*Q159*Q159","v":0},{"$f":"IF(N159<=$R$84,N159,$R$84)","v":0},{"$f":"$N$84+$O$84*S159+$P$84*S159*S159","v":0},{"$f":"IF(N159<=$R$85,N159,$R$85)","v":0},{"$f":"$N$85+$O$85*U159+$P$85*U159*U159","v":0},{"$f":"IF(N159<=$R$86,N159,$R$86)","v":0},{"$f":"$N$87+$O$87*W159+$P$86*W159*W159","v":{"$error":"#VALUE!"}}]
[{"$nulls":13},1.02,0,0,0,0,0,0,0,0,0,{"$error":"#VALUE!"}]
[{"$nulls":13},1.04,0,0,0,0,0,0,0,0,0,{"$error":"#VALUE!"}]
[{"$nulls":13},1.06,0,0,0,0,0,0,0,0,0,{"$error":"#VALUE!"}]
[{"$nulls":13},1.08,0,0,0,0,0,0,0,0,0,{"$error":"#VALUE!"}]
[{"$nulls":13},1.1,0,0,0,0,0,0,0,0,0,{"$error":"#VALUE!"}]
[{"$nulls":13},1.12,0,0,0,0,0,0,0,0,0,{"$error":"#VALUE!"}]
[{"$nulls":13},1.14,0,0,0,0,0,0,0,0,0,{"$error":"#VALUE!"}]
[{"$nulls":13},1.16,0,0,0,0,0,0,0,0,0,{"$error":"#VALUE!"}]
[{"$nulls":13},1.18,0,0,0,0,0,0,0,0,0,{"$error":"#VALUE!"}]
[{"$nulls":13},1.2,0,0,0,0,0,0,0,0,0,{"$error":"#VALUE!"}]
[{"$nulls":13},1.22,0,0,0,0,0,0,0,0,0,{"$error":"#VALUE!"}]
[{"$nulls":13},1.24,0,0,0,0,0,0,0,0,0,{"$error":"#VALUE!"}]
[{"$nulls":13},1.26,0,0,0,0,0,0,0,0,0,{"$error":"#VALUE!"}]
[{"$nulls":13},1.28,0,0,0,0,0,0,0,0,0,{"$error":"#VALUE!"}]
[{"$nulls":13},1.3,0,0,0,0,0,0,0,0,0,{"$error":"#VALUE!"}]
[{"$nulls":13},1.32,0,0,0,0,0,0,0,0,0,{"$error":"#VALUE!"}]
[{"$nulls":13},1.34,0,0,0,0,0,0,0,0,0,{"$error":"#VALUE!"}]
[{"$nulls":13},1.36,0,0,0,0,0,0,0,0,0,{"$error":"#VALUE!"}]
[{"$nulls":13},1.38,0,0,0,0,0,0,0,0,0,{"$error":"#VALUE!"}]
[{"$nulls":13},1.4,0,0,0,0,0,0,0,0,0,{"$error":"#VALUE!"}]
[{"$nulls":13},1.42,0,0,0,0,0,0,0,0,0,{"$error":"#VALUE!"}]
[{"$nulls":13},1.44,0,0,0,0,0,0,0,0,0,{"$error":"#VALUE!"}]
[{"$nulls":13},1.46,0,0,0,0,0,0,0,0,0,{"$error":"#VALUE!"}]
[{"$nulls":13},1.48,0,0,0,0,0,0,0,0,0,{"$error":"#VALUE!"}]
[{"$nulls":13},1.5,0,0,0,0,0,0,0,0,0,{"$error":"#VALUE!"}]
[{"$nulls":13},1.52,0,0,0,0,0,0,0,0,0,{"$error":"#VALUE!"}]
[{"$nulls":13},1.54,0,0,0,0,0,0,0,0,0,{"$error":"#VALUE!"}]
[{"$nulls":13},1.56,0,0,0,0,0,0,0,0,0,{"$error":"#VALUE!"}]
[{"$nulls":13},1.58,0,0,0,0,0,0,0,0,0,{"$error":"#VALUE!"}]
[{"$nulls":13},1.6,0,0,0,0,0,0,0,0,0,{"$error":"#VALUE!"}]
[{"$nulls":13},1.62,0,0,0,0,0,0,0,0,0,{"$error":"#VALUE!"}]
[{"$nulls":13},1.64,0,0,0,0,0,0,0,0,0,{"$error":"#VALUE!"}]
[{"$nulls":13},1.66,0,0,0,0,0,0,0,0,0,{"$error":"#VALUE!"}]
[{"$nulls":13},1.68,0,0,0,0,0,0,0,0,0,{"$error":"#VALUE!"}]
[{"$nulls":13},1.7,0,0,0,0,0,0,0,0,0,{"$error":"#VALUE!"}]
[{"$nulls":13},1.72,0,0,0,0,0,0,0,0,0,{"$error":"#VALUE!"}]
[{"$nulls":13},1.74,0,0,0,0,0,0,0,0,0,{"$error":"#VALUE!"}]
[{"$nulls":13},1.76,0,0,0,0,0,0,0,0,0,{"$error":"#VALUE!"}]
[{"$nulls":13},1.78,0,0,0,0,0,0,0,0,0,{"$error":"#VALUE!"}]
[{"$nulls":13},1.8,0,0,0,0,0,0,0,0,0,{"$error":"#VALUE!"}]
[{"$nulls":13},1.82,0,0,0,0,0,0,0,0,0,{"$error":"#VALUE!"}]
[{"$nulls":13},1.84,0,0,0,0,0,0,0,0,0,{"$error":"#VALUE!"}]
[{"$nulls":13},1.86,0,0,0,0,0,0,0,0,0,{"$error":"#VALUE!"}]
[{"$nulls":13},1.88,0,0,0,0,0,0,0,0,0,{"$error":"#VALUE!"}]
[{"$nulls":13},1.9,0,0,0,0,0,0,0,0,0,{"$error":"#VALUE!"}]
[{"$nulls":13},1.92,0,0,0,0,0,0,0,0,0,{"$error":"#VALUE!"}]
[{"$nulls":13},1.94,0,0,0,0,0,0,0,0,0,{"$error":"#VALUE!"}]
[{"$nulls":13},1.96,0,0,0,0,0,0,0,0,0,{"$error":"#VALUE!"}]
[{"$nulls":13},1.98,0,0,0,0,0,0,0,0,0,{"$error":"#VALUE!"}]
[{"$nulls":13},2,0,0,0,0,0,0,0,0,0,{"$error":"#VALUE!"}]
[{"$nulls":13},2.02,0,0,0,0,0,0,0,0,0,{"$error":"#VALUE!"}]
[{"$nulls":13},2.04,0,0,0,0,0,0,0,0,0,{"$error":"#VALUE!"}]
[{"$nulls":13},2.06,0,0,0,0,0,0,0,0,0,{"$error":"#VALUE!"}]
[{"$nulls":13},2.08,0,0,0,0,0,0,0,0,0,{"$error":"#VALUE!"}]
[{"$nulls":13},2.1,0,0,0,0,0,0,0,0,0,{"$error":"#VALUE!"}]
[{"$nulls":13},2.12,0,0,0,0,0,0,0,0,0,{"$error":"#VALUE!"}]
[{"$nulls":13},2.14,0,0,0,0,0,0,0,0,0,{"$error":"#VALUE!"}]
[{"$nulls":13},2.16,0,0,0,0,0,0,0,0,0,{"$error":"#VALUE!"}]
[{"$nulls":13},2.18,0,0,0,0,0,0,0,0,0,{"$error":"#VALUE!"}]
[{"$nulls":13},2.2,0,0,0,0,0,0,0,0,0,{"$error":"#VALUE!"}]
[{"$nulls":13},2.22,0,0,0,0,0,0,0,0,0,{"$error":"#VALUE!"}]
[{"$nulls":13},2.24,0,0,0,0,0,0,0,0,0,{"$error":"#VALUE!"}]
[{"$nulls":13},2.26,0,0,0,0,0,0,0,0,0,{"$error":"#VALUE!"}]
[{"$nulls":13},2.28,{"$f":"IF(N223<=$R$82,N223,$R$82)","v":0},{"$f":"$N$82+$O$82*O223+$P$82*O223*O223","v":0},{"$f":"IF(N223<=$R$83,N223,$R$83)","v":0},{"$f":"$N$83+$O$83*Q223+$P$83*Q223*Q223","v":0},{"$f":"IF(N223<=$R$84,N223,$R$84)","v":0},{"$f":"$N$84+$O$84*S223+$P$84*S223*S223","v":0},{"$f":"IF(N223<=$R$85,N223,$R$85)","v":0},{"$f":"$N$85+$O$85*U223+$P$85*U223*U223","v":0},{"$f":"IF(N223<=$R$86,N223,$R$86)","v":0},{"$f":"$N$87+$O$87*W223+$P$86*W223*W223","v":{"$error":"#VALUE!"}}]
[{"$nulls":13},2.3,0,0,0,0,0,0,0,0,0,{"$error":"#VALUE!"}]
[{"$nulls":13},2.32,0,0,0,0,0,0,0,0,0,{"$error":"#VALUE!"}]
[{"$nulls":13},2.34,0,0,0,0,0,0,0,0,0,{"$error":"#VALUE!"}]
[{"$nulls":13},2.36,0,0,0,0,0,0,0,0,0,{"$error":"#VALUE!"}]
[{"$nulls":13},2.38,0,0,0,0,0,0,0,0,0,{"$error":"#VALUE!"}]
[{"$nulls":13},2.4,0,0,0,0,0,0,0,0,0,{"$error":"#VALUE!"}]
[{"$nulls":13},2.42,0,0,0,0,0,0,0,0,0,{"$error":"#VALUE!"}]
[{"$nulls":13},2.44,0,0,0,0,0,0,0,0,0,{"$error":"#VALUE!"}]
[{"$nulls":13},2.46,0,0,0,0,0,0,0,0,0,{"$error":"#VALUE!"}]
[{"$nulls":13},2.48,0,0,0,0,0,0,0,0,0,{"$error":"#VALUE!"}]
[{"$nulls":13},2.5,0,0,0,0,0,0,0,0,0,{"$error":"#VALUE!"}]
[{"$nulls":13},2.52,0,0,0,0,0,0,0,0,0,{"$error":"#VALUE!"}]
[{"$nulls":13},2.54,0,0,0,0,0,0,0,0,0,{"$error":"#VALUE!"}]
[{"$nulls":13},2.56,0,0,0,0,0,0,0,0,0,{"$error":"#VALUE!"}]
[{"$nulls":13},2.58,0,0,0,0,0,0,0,0,0,{"$error":"#VALUE!"}]
[{"$nulls":13},2.6,0,0,0,0,0,0,0,0,0,{"$error":"#VALUE!"}]
[{"$nulls":13},2.62,0,0,0,0,0,0,0,0,0,{"$error":"#VALUE!"}]
[{"$nulls":13},2.64,0,0,0,0,0,0,0,0,0,{"$error":"#VALUE!"}]
[{"$nulls":13},2.66,0,0,0,0,0,0,0,0,0,{"$error":"#VALUE!"}]
[{"$nulls":13},2.68,0,0,0,0,0,0,0,0,0,{"$error":"#VALUE!"}]
[{"$nulls":13},2.7,0,0,0,0,0,0,0,0,0,{"$error":"#VALUE!"}]
[{"$nulls":13},2.72,0,0,0,0,0,0,0,0,0,{"$error":"#VALUE!"}]
[{"$nulls":13},2.74,0,0,0,0,0,0,0,0,0,{"$error":"#VALUE!"}]
[{"$nulls":13},2.76,0,0,0,0,0,0,0,0,0,{"$error":"#VALUE!"}]
[{"$nulls":13},2.78,0,0,0,0,0,0,0,0,0,{"$error":"#VALUE!"}]
[{"$nulls":13},2.8,0,0,0,0,0,0,0,0,0,{"$error":"#VALUE!"}]
[{"$nulls":13},2.82,0,0,0,0,0,0,0,0,0,{"$error":"#VALUE!"}]
[{"$nulls":13},2.84,0,0,0,0,0,0,0,0,0,{"$error":"#VALUE!"}]
[{"$nulls":13},2.86,0,0,0,0,0,0,0,0,0,{"$error":"#VALUE!"}]
[{"$nulls":13},2.88,0,0,0,0,0,0,0,0,0,{"$error":"#VALUE!"}]
[{"$nulls":13},2.9,0,0,0,0,0,0,0,0,0,{"$error":"#VALUE!"}]
[{"$nulls":13},2.92,0,0,0,0,0,0,0,0,0,{"$error":"#VALUE!"}]
[{"$nulls":13},2.94,0,0,0,0,0,0,0,0,0,{"$error":"#VALUE!"}]
[{"$nulls":13},2.96,0,0,0,0,0,0,0,0,0,{"$error":"#VALUE!"}]
[{"$nulls":13},2.98,0,0,0,0,0,0,0,0,0,{"$error":"#VALUE!"}]
[{"$nulls":13},3,0,0,0,0,0,0,0,0,0,{"$error":"#VALUE!"}]
[{"$nulls":13},3.02,0,0,0,0,0,0,0,0,0,{"$error":"#VALUE!"}]

{"sheet":"Statistik SN","index":11,"n_rows":32,"n_cols":13,"rows_kept":32,"merged":[[5,0,5,12],[6,0,6,12],[8,3,8,12],[9,3,9,12],[10,3,10,12],[12,3,12,12],[13,3,13,12],[15,3,15,4],[15,7,15,12],[17,3,17,12],[22,0,22,4],[22,5,22,7],[22,8,22,12],[23,9,23,10]]}
[]
[]
[]
[]
[{"$nulls":5},"Prüfbericht","E4312-01"]
["Plattendruckversuch EV und ME"]
["SN 670 317b: 1998"]
[]
[null,null,"Auftraggeber:"]
[null,null,"Auftrag erteilt durch:"]
[null,null,"Objekt:"]
[]
[null,null,"ME berechnet für Schichtart:"]
[null,null,"Soll (ME1) [MN/m²]",45]
[]
[null,null,"Prüfer:",{"$nulls":3},"Messdatum:","2014-08-28"]
[]
[null,null,"Auftrag vom:"]
[{"$nulls":3},"Alle Ergebnisse beziehen sich auf die hier aufgelisteten Messungen."]
[]
["Zusammenstellung der Prüfergebnisse"]
[]
["Prüfstelle",{"$nulls":4},"EV",null,null,"ME"]
["Nr.","Datum","Profil","Lage","Prüfschicht","Erstbe-lastung EV1 [MN/m²]","Zweitbe-lastung EV2 [MN/m²]","Verhält-nis EV2/EV1","Erstbe-lastung ME1 [MN/m²]","Anforderung\nSN640585b:2006",null,"Zweitbe-lastung ME2 [MN/m²]","Verhält-nis ME2/ME1"]
[{"$nulls":5},"Ist","Ist","Ist","Ist","Soll","erfüllt","Ist","Ist"]
[]
[]
[]
[]
[]
[{"$nulls":9},"Datum:"]
[{"$nulls":9},"Sachbearbeiter:"]

{"sheet":"Statistik stat","index":12,"n_rows":29,"n_cols":8,"rows_kept":29,"merged":[[0,3,0,7],[2,0,2,7],[3,0,3,7],[4,1,4,2],[4,3,4,4],[5,1,5,2],[5,3,5,4],[6,1,6,2],[6,3,6,4],[7,3,7,4],[8,1,8,2],[8,3,8,4],[9,1,9,2],[9,3,9,4],[9,5,9,6],[10,1,10,2],[10,3,10,4],[10,5,10,6],[11,0,11,2],[12,0,12,2],[13,0,13,1],[20,2,20,4],[21,3,21,4],[22,3,22,4],[24,3,24,4]]}
[null,"Prüfinstitut:"]
[]
["Statischer Plattendruckversuch, Statistische Auswertung "]
["Bestimmung des Verformungsmoduls gemäß  DIN18134-2001 und TP BF-StB, Teil E1: \"Prüfung auf statistischer Grundlage - Stichprobenprüfpläne -\", Ausgabe 1993, Einfachplan - Variablenprüfung\nPrüfgerät: Plattendruckgerät AX01\nHersteller: Anix GmbH"]
[null,"Auftraggeber:"]
[null,"Bauvorhaben:"]
[null,"Prüftiefe:",{"$nulls":4},"Datum:","2014-08-28T09:57:20"]
[null,null,"Schicht:",{"$nulls":3},"Kartennummer:","280814091054"]
[null,"Bemerkungen:",{"$nulls":4},"Gerätenummer:",4000]
[null,"Wetter/Temperatur:",{"$nulls":3},"Plattendurchmesser:",null,600]
[null,"Bearbeiter:",{"$nulls":3},"Hebelverhältnis:",null,{"v":2,"d":"1:2.00"}]
["gefordertes \nMindestquantil Ev2:",null,null,45]
["gefordertes \nHöchstquantil Ev2/Ev1:",null,null,2.2]
["Resultate:"]
[]
["Nr","Datum","Zeit","s1max [MN/m²]","Ev1 [MN/m²]","Ev2  [MN/m²]","Ev2/Ev1","Bemerkungen"]
[{"$nulls":6},{"$f":"IF(E17<>0,F17/E17,\"\")","v":""}]
[]
[{"$nulls":6},{"$f":"IF(E19<>0,F19/E19,\"\")","v":""}]
[]
[null,null,"Arithmetisches Mittel der Stichprobe:",null,null,{"$f":"AVERAGE(F17:F20)","v":{"$error":"#DIV/0!"}},{"$f":"AVERAGE(G17:G20)","v":{"$error":"#DIV/0!"}}]
[{"$nulls":3},"Standardabweichung:",null,{"$f":"STDEV(F17:F20)","v":{"$error":"#DIV/0!"}},{"$f":"STDEV(G17:G20)","v":{"$error":"#DIV/0!"}}]
[{"$nulls":3},"Variationskoeffizient:",null,{"$f":"F22/F21","v":{"$error":"#DIV/0!"}},{"$f":"G22/G21","v":{"$error":"#DIV/0!"}}]
[]
[{"$nulls":3},"Qualitätszahl Q:",null,{"$f":"(F21-D12)/F22","v":{"$error":"#DIV/0!"}},{"$f":"(D13-G21)/G22","v":{"$error":"#DIV/0!"}}]
[]
[{"$nulls":4},"Die Prüfkriterien (Q>0,88) sind ",{"$f":"IF(F25>0.88,\"erfüllt.\",\"nicht erfüllt.\")","v":{"$error":"#DIV/0!"}},{"$f":"IF(G25>0.88,\"erfüllt.\",\"nicht erfüllt.\")","v":{"$error":"#DIV/0!"}}]
[]
["Berlin",{"$f":"TODAY()","v":"2026-06-26"}]